BEGIN:VCALENDAR
VERSION:2.0
PRODID:-//Karlsruhepuls - ECPv6.14.2//NONSGML v1.0//EN
CALSCALE:GREGORIAN
METHOD:PUBLISH
X-WR-CALNAME:Karlsruhepuls
X-ORIGINAL-URL:https://karlsruhepuls.de
X-WR-CALDESC:Veranstaltungen für Karlsruhepuls
REFRESH-INTERVAL;VALUE=DURATION:PT1H
X-Robots-Tag:noindex
X-PUBLISHED-TTL:PT1H
BEGIN:VTIMEZONE
TZID:Europe/Berlin
BEGIN:DAYLIGHT
TZOFFSETFROM:+0100
TZOFFSETTO:+0200
TZNAME:CEST
DTSTART:20250330T010000
END:DAYLIGHT
BEGIN:STANDARD
TZOFFSETFROM:+0200
TZOFFSETTO:+0100
TZNAME:CET
DTSTART:20251026T010000
END:STANDARD
END:VTIMEZONE
BEGIN:VEVENT
DTSTART;TZID=Europe/Berlin:20250316T110000
DTEND;TZID=Europe/Berlin:20250322T000000
DTSTAMP:20260419T180615
CREATED:20250318T164254Z
LAST-MODIFIED:20250318T165438Z
UID:10000137-1742122800-1742601600@karlsruhepuls.de
SUMMARY:Figurentheater: Der kleine Drache Kokosnuss im Spukschloss
DESCRIPTION:Erlebe den kleinen Drachen Kokosnuss live! Das Rieser Figurentheater bringt die beliebte Geschichte von Ingo Siegner nach Karlsruhe. Ein großes Abenteuer für den kleinen Drachen Kokosnuss und ein zauberhaftes Erlebnis für Kinder ab vier Jahren und ihre Familien. \nDarum geht’s in „Der kleine Drache Kokosnuss im Spukschloss“\nKokosnuss und Matilda suchen Schutz vor einem Gewitter – ausgerechnet in einem unheimlichen Schloss! Um Mitternacht taucht das Gespenst Klemenzia auf. Was steckt dahinter? Mit einem echten Gespenster-Experten nehmen Kokosnuss und Matilda allen Mut zusammen\, um das Rätsel zu lösen. \nMagisches Figurentheater für die ganze Familie\nDas Rieser Figurentheater begeistert mit kunstvoll gestalteten Puppen\, atmosphärischen Kulissen und einer Erzählweise\, die Kinder wie Erwachsene in ihren Bann zieht. Das beheizte Theaterzelt auf dem Festplatz in Knielingen sorgt zusätzlich für eine gemütliche Stimmung. \nJetzt Tickets sichern!\nKarten für „Der kleine Drache Kokosnuss im Spukschloss“ gibt es im Vorverkauf bei Eventim und an der Tageskasse vor Ort. \n\nVERLOSUNG: 5 x 2 Tickets für den 22. März um 16 Uhr\nIhr möchtet den kleinen Drachen Kokosnuss im Spukschloss erleben? Dann schreibt uns bis zum 17. März 2025\, 14 Uhr\, eine E-Mail an gewinnspiel@karlsruhepuls.de und gewinnt mit etwas Glück Tickets für die Vorstellung am 22. März um 16 Uhr. Bitte nennt uns euren vollen Namen und eure E-Mail-Adresse\, damit wir sie dem Veranstalter zuschicken können\, falls ihr gewinnt. \nDie Gewinner werden per Zufallsprinzip ausgelost und bekommen von uns im Anschluss eine Nachricht per E-Mail. Die Daten werden nur für die Gewinnbenachrichtigung verwendet. Alle E-Mails und persönlichen Informationen werden nach dem Ende des Gewinnspiels von uns gelöscht. Eine Barauszahlung und der Rechtsweg sind ausgeschlossen. Alle Infos zur Abwicklung unserer Gewinnspiele findest du in unseren Gewinnspiel-AGB.
URL:https://karlsruhepuls.de/events/figurentheater-der-kleine-drache-kokosnuss-im-spukschloss/
LOCATION:Festplatz Knielingen\, Eggensteiner Straße (Nähe der SVK Sängerhalle)\, Karlsruhe\, 76187
CATEGORIES:Kinder und Familien
ATTACH;FMTTYPE=image/jpeg:https://karlsruhepuls.de/wp-content/uploads/2025/03/Der-kleine-Drache-Kokosnuss-im-Spukschloss-c-Rieser-Figurentheater.jpg
END:VEVENT
BEGIN:VEVENT
DTSTART;TZID=Europe/Berlin:20250321T100000
DTEND;TZID=Europe/Berlin:20250321T190000
DTSTAMP:20260419T180615
CREATED:20250326T142931Z
LAST-MODIFIED:20250326T142931Z
UID:10000228-1742551200-1742583600@karlsruhepuls.de
SUMMARY:Großer Pflanzenverkauf
DESCRIPTION:Pop-up-Hallenmarkt mit vielen Sorten Zimmerpflanzen – von Monstera über Ficus bis Pilea. Außerdem Übertöpfe und Zubehör. Nur Kartenzahlung!
URL:https://karlsruhepuls.de/events/grosser-pflanzenverkauf/2025-03-21/
CATEGORIES:Shopping
END:VEVENT
BEGIN:VEVENT
DTSTART;TZID=Europe/Berlin:20250321T130000
DTEND;TZID=Europe/Berlin:20250321T170000
DTSTAMP:20260419T180615
CREATED:20250313T100448Z
LAST-MODIFIED:20250314T161718Z
UID:10000125-1742562000-1742576400@karlsruhepuls.de
SUMMARY:Abschluss-Auktion Majolika
DESCRIPTION:Die traditionsreiche Keramik-Manufaktur hat geschlossen. Bei der Abschluss-Auktion könnt ihr über 1.500 dort hergestellte Stücke ersteigern.
URL:https://karlsruhepuls.de/events/abschluss-auktion-majolika/2025-03-21/
LOCATION:Staatliche Majolika Manufaktur Karlsruhe\, Ahaweg 6-8\, Karlsruhe\, 76131
END:VEVENT
BEGIN:VEVENT
DTSTART;TZID=Europe/Berlin:20250321T160000
DTEND;TZID=Europe/Berlin:20250321T180000
DTSTAMP:20260419T180615
CREATED:20250319T153040Z
LAST-MODIFIED:20250319T153413Z
UID:10000143-1742572800-1742580000@karlsruhepuls.de
SUMMARY:PFAS: Unsichtbar\, aber überall
DESCRIPTION:Afterwork-Session zu den unsichtbaren Gefahren der Industriechemikalien\, außerdem Diskussionen und Drinks.
URL:https://karlsruhepuls.de/events/pfas-unsichtbar-aber-ueberall/
LOCATION:Triangel Transfer Kultur Raum\, Kaiserstraße 93\, Karlsruhe\, 76133
CATEGORIES:Bildung
END:VEVENT
BEGIN:VEVENT
DTSTART;TZID=Europe/Berlin:20250321T220000
DTEND;TZID=Europe/Berlin:20250321T220000
DTSTAMP:20260419T180615
CREATED:20250319T163733Z
LAST-MODIFIED:20250320T123845Z
UID:10000154-1742594400-1742594400@karlsruhepuls.de
SUMMARY:Party: Zapata Soundz – Reggae und Dancehall
DESCRIPTION:Karlsruhes bekanntestes Soundsystem mit neuer Party-Reihe im Roots und wechselndem Gast-Sound – diesmal: BassTone aus Mannheim.
URL:https://karlsruhepuls.de/events/party-zapata-soundz-reggae-und-dancehall/
LOCATION:Roots Bar\, Amalienstraße 53\, Karlsruhe\, 76133\, Germany
CATEGORIES:Party
END:VEVENT
BEGIN:VEVENT
DTSTART;TZID=Europe/Berlin:20250321T230000
DTEND;TZID=Europe/Berlin:20250321T230000
DTSTAMP:20260419T180615
CREATED:20250312T202346Z
LAST-MODIFIED:20250408T111303Z
UID:10000062-1742598000-1742598000@karlsruhepuls.de
SUMMARY:Party: Karls-Club mit Dj TheJan
DESCRIPTION:Am Wochenende wird das Wirtshaus am Marktplatz zur Party-Zone. Hier trifft sich ein gemischtes Karlsruher Publikum und feiert zu Mixed Music.
URL:https://karlsruhepuls.de/events/party-karls-club-mit-dj-thejan/2025-03-21/
LOCATION:Marktlücke\, Zähringerstraße 96\, Karlsruhe\, 76133
CATEGORIES:Party
END:VEVENT
END:VCALENDAR