BEGIN:VCALENDAR
VERSION:2.0
PRODID:-//Karlsruhepuls - ECPv6.14.2//NONSGML v1.0//EN
CALSCALE:GREGORIAN
METHOD:PUBLISH
X-WR-CALNAME:Karlsruhepuls
X-ORIGINAL-URL:https://karlsruhepuls.de
X-WR-CALDESC:Veranstaltungen für Karlsruhepuls
REFRESH-INTERVAL;VALUE=DURATION:PT1H
X-Robots-Tag:noindex
X-PUBLISHED-TTL:PT1H
BEGIN:VTIMEZONE
TZID:Europe/Berlin
BEGIN:DAYLIGHT
TZOFFSETFROM:+0100
TZOFFSETTO:+0200
TZNAME:CEST
DTSTART:20250330T010000
END:DAYLIGHT
BEGIN:STANDARD
TZOFFSETFROM:+0200
TZOFFSETTO:+0100
TZNAME:CET
DTSTART:20251026T010000
END:STANDARD
END:VTIMEZONE
BEGIN:VEVENT
DTSTART;TZID=Europe/Berlin:20250322T070000
DTEND;TZID=Europe/Berlin:20250322T150000
DTSTAMP:20260419T180518
CREATED:20250319T154758Z
LAST-MODIFIED:20250321T100520Z
UID:10000144-1742626800-1742655600@karlsruhepuls.de
SUMMARY:Flohmarkt Bannwaldallee
DESCRIPTION:Trödel und Neuware\, verkauft wird in einer großen Halle oder einer Freifläche. Jeder kann mitmachen\, ohne Voranmeldung.
URL:https://karlsruhepuls.de/events/flohmarkt-bannwaldallee/2025-03-22/
LOCATION:Mercado Märkte\, Bannwaldallee 48\, Karlsruhe\, 76185
CATEGORIES:Flohmarkt
END:VEVENT
BEGIN:VEVENT
DTSTART;TZID=Europe/Berlin:20250322T090000
DTEND;TZID=Europe/Berlin:20250322T120000
DTSTAMP:20260419T180518
CREATED:20250319T155959Z
LAST-MODIFIED:20250319T155959Z
UID:10000151-1742634000-1742644800@karlsruhepuls.de
SUMMARY:Forest Cleanup Day
DESCRIPTION:Müllsammeln in vier Waldgebieten: Elfmorgenbruch (Radweg zwischen Umspannwerk und Durlach-Center)\, Reitschulschlag (Ende Hirschgrabenweg am Pfinz-Entlastungskanal)\, Hardtwald (Waldklassenzimmer)\, Grötzingen (Brücke über Pfinzentlastungskanal Nähe Kompostierungsanlage).
URL:https://karlsruhepuls.de/events/forest-cleanup-day/
LOCATION:Waldklassenzimmer\, Linkenheimer Allee 10\, Karlsruhe\, 76131
END:VEVENT
BEGIN:VEVENT
DTSTART;TZID=Europe/Berlin:20250322T100000
DTEND;TZID=Europe/Berlin:20250322T120000
DTSTAMP:20260419T180518
CREATED:20250319T161358Z
LAST-MODIFIED:20250319T161950Z
UID:10000152-1742637600-1742644800@karlsruhepuls.de
SUMMARY:KSC-Frühsport auf dem Marktplatz
DESCRIPTION:Die Athletiktrainerin der Frauenmannschaft zeigt dir\, wie es geht: Passübungen mit Bällen und Hütchen\, Kopfballtraining und 4 gegen 2. Außerdem wichtige Taktiken etwa beim Abseits.
URL:https://karlsruhepuls.de/events/ksc-fruehsport-auf-dem-marktplatz/
LOCATION:Marktplatz\, Marktplatz\, Karlsruhe\, 76133
CATEGORIES:Sport
END:VEVENT
BEGIN:VEVENT
DTSTART;TZID=Europe/Berlin:20250322T100000
DTEND;TZID=Europe/Berlin:20250322T140000
DTSTAMP:20260419T180518
CREATED:20250312T132247Z
LAST-MODIFIED:20250313T114524Z
UID:10000042-1742637600-1742652000@karlsruhepuls.de
SUMMARY:Book and Bake Sale
DESCRIPTION:Gute Gelegenheit\, um neue und alte englischsprachige Bücher zu kaufen. Gemütliche Begleitung zum Flohmarkt: Cakes\, Cookies\, Muffins und Pie – yummy!
URL:https://karlsruhepuls.de/events/book-and-bake-sale/
LOCATION:Stadtbibliothek im Neuen Ständehaus\, Ständehausstraße 2\, Karlsruhe\, 76133
CATEGORIES:Shopping
END:VEVENT
BEGIN:VEVENT
DTSTART;TZID=Europe/Berlin:20250322T100000
DTEND;TZID=Europe/Berlin:20250322T180000
DTSTAMP:20260419T180518
CREATED:20250326T142931Z
LAST-MODIFIED:20250326T142931Z
UID:10000229-1742637600-1742666400@karlsruhepuls.de
SUMMARY:Großer Pflanzenverkauf
DESCRIPTION:Pop-up-Hallenmarkt mit vielen Sorten Zimmerpflanzen – von Monstera über Ficus bis Pilea. Außerdem Übertöpfe und Zubehör. Nur Kartenzahlung!
URL:https://karlsruhepuls.de/events/grosser-pflanzenverkauf/2025-03-22/
CATEGORIES:Shopping
END:VEVENT
BEGIN:VEVENT
DTSTART;TZID=Europe/Berlin:20250322T130000
DTEND;TZID=Europe/Berlin:20250322T170000
DTSTAMP:20260419T180518
CREATED:20250313T100448Z
LAST-MODIFIED:20250314T161718Z
UID:10000126-1742648400-1742662800@karlsruhepuls.de
SUMMARY:Abschluss-Auktion Majolika
DESCRIPTION:Die traditionsreiche Keramik-Manufaktur hat geschlossen. Bei der Abschluss-Auktion könnt ihr über 1.500 dort hergestellte Stücke ersteigern.
URL:https://karlsruhepuls.de/events/abschluss-auktion-majolika/2025-03-22/
LOCATION:Staatliche Majolika Manufaktur Karlsruhe\, Ahaweg 6-8\, Karlsruhe\, 76131
END:VEVENT
BEGIN:VEVENT
DTSTART;TZID=Europe/Berlin:20250322T130000
DTEND;TZID=Europe/Berlin:20250322T190000
DTSTAMP:20260419T180518
CREATED:20250311T081514Z
LAST-MODIFIED:20250314T212916Z
UID:10000012-1742648400-1742670000@karlsruhepuls.de
SUMMARY:Grooving ´n´ Grabbing
DESCRIPTION:In den großzügigen Altbau-Räumen des Vintage-Ladens könnt ihr nicht nur preloved Fashion shoppen sondern auch DJ-Sounds genießen und Schmuck von temporären Ausstellern entdecken.
URL:https://karlsruhepuls.de/events/grooving-n-grabbing/2025-03-22/
LOCATION:Vintage Revivals\, Karlstraße 66\, Karlsruhe\, 76137
END:VEVENT
BEGIN:VEVENT
DTSTART;TZID=Europe/Berlin:20250322T163000
DTEND;TZID=Europe/Berlin:20250322T163000
DTSTAMP:20260419T180518
CREATED:20250313T153631Z
LAST-MODIFIED:20250313T154548Z
UID:10000082-1742661000-1742661000@karlsruhepuls.de
SUMMARY:Film: Bottled life – Nestlés Geschäfte mit dem Wasser
DESCRIPTION:Bekannter Dokumentarfilm von 2012 über den Lebensmittelkonzern\, der sich Rechte an natürlichen Wasservorkommen sichert und damit Konflikte schafft.
URL:https://karlsruhepuls.de/events/film-bottled-life-nestles-geschaefte-mit-dem-wasser/
LOCATION:Schauburg\, Marienstraße 16\, Karlsruhe\, 76137
CATEGORIES:Film
END:VEVENT
BEGIN:VEVENT
DTSTART;TZID=Europe/Berlin:20250322T210000
DTEND;TZID=Europe/Berlin:20250322T210000
DTSTAMP:20260419T180518
CREATED:20250319T162446Z
LAST-MODIFIED:20250319T162446Z
UID:10000153-1742677200-1742677200@karlsruhepuls.de
SUMMARY:90er vs. 2000er-Party
DESCRIPTION:DJ H2O-Lee und seine Crew legen Klassiker von Oasis\, Green Day\, Fettes Brot\, Robbie Williams und vielen mehr auf.
URL:https://karlsruhepuls.de/events/90er-vs-2000er-party/
LOCATION:Substage\, Alter Schlachthof 19\, Karlsruhe\, 76131
END:VEVENT
END:VCALENDAR