BEGIN:VCALENDAR
VERSION:2.0
PRODID:-//Karlsruhepuls - ECPv6.14.2//NONSGML v1.0//EN
CALSCALE:GREGORIAN
METHOD:PUBLISH
X-ORIGINAL-URL:https://karlsruhepuls.de
X-WR-CALDESC:Veranstaltungen für Karlsruhepuls
REFRESH-INTERVAL;VALUE=DURATION:PT1H
X-Robots-Tag:noindex
X-PUBLISHED-TTL:PT1H
BEGIN:VTIMEZONE
TZID:Europe/Berlin
BEGIN:DAYLIGHT
TZOFFSETFROM:+0100
TZOFFSETTO:+0200
TZNAME:CEST
DTSTART:20260329T010000
END:DAYLIGHT
BEGIN:STANDARD
TZOFFSETFROM:+0200
TZOFFSETTO:+0100
TZNAME:CET
DTSTART:20261025T010000
END:STANDARD
END:VTIMEZONE
BEGIN:VEVENT
DTSTART;TZID=Europe/Berlin:20260117T070000
DTEND;TZID=Europe/Berlin:20260117T150000
DTSTAMP:20260421T191138
CREATED:20260108T073653Z
LAST-MODIFIED:20260108T073844Z
UID:10000150-1768633200-1768662000@karlsruhepuls.de
SUMMARY:Flohmarkt Bannwaldallee
DESCRIPTION:Trödel und Neuware\, verkauft wird in einer großen Halle oder einer Freifläche. Jeder kann mitmachen\, ohne Voranmeldung. Jeden Samstag.
URL:https://karlsruhepuls.de/events/flohmarkt-bannwaldallee-2/
LOCATION:Mercado Märkte\, Bannwaldallee 48\, Karlsruhe\, 76185
CATEGORIES:Flohmarkt
END:VEVENT
BEGIN:VEVENT
DTSTART;TZID=Europe/Berlin:20260117T080000
DTEND;TZID=Europe/Berlin:20260117T170000
DTSTAMP:20260421T191138
CREATED:20260117T105924Z
LAST-MODIFIED:20260117T105950Z
UID:10004063-1768636800-1768669200@karlsruhepuls.de
SUMMARY:Musik\, Comedy und Bouldern
DESCRIPTION:Samuel Kilian verbindet Live-Musik\, Comedy und Bouldern. Um 18\, 19 und 20 Uhr gibt es jeweils ein 20-minütiges Set\, dazwischen wird gebouldert. \n 
URL:https://karlsruhepuls.de/events/musik-comedy-und-bouldern/
LOCATION:Boulderwelt Karlsruhe\, Karlstraße 14\, Karlsruhe\, 76133
CATEGORIES:Comedy,Sport
END:VEVENT
BEGIN:VEVENT
DTSTART;TZID=Europe/Berlin:20260117T150000
DTEND;TZID=Europe/Berlin:20260117T190000
DTSTAMP:20260421T191138
CREATED:20260112T094554Z
LAST-MODIFIED:20260112T094554Z
UID:10004020-1768662000-1768676400@karlsruhepuls.de
SUMMARY:Weststadt Art Walk
DESCRIPTION:Die Galerie Rottloff öffnet ihre Türen und zeigt die Ausstellung Focus Farbe von Bettina Bürkle und Martina Geist.
URL:https://karlsruhepuls.de/events/weststadt-art-walk/
LOCATION:Galerie Rottloff\, Sophienstraße 5\, Karlsruhe\, 76135
CATEGORIES:Ausstellung
END:VEVENT
BEGIN:VEVENT
DTSTART;TZID=Europe/Berlin:20260117T150000
DTEND;TZID=Europe/Berlin:20260117T210000
DTSTAMP:20260421T191138
CREATED:20251222T081702Z
LAST-MODIFIED:20260112T091130Z
UID:10003924-1768662000-1768683600@karlsruhepuls.de
SUMMARY:Beat Night Pride on Ice
DESCRIPTION:Diversität und Vielfalt kommen auf und vor die Eisfläche! Feiert im Scheinwerferlicht zu coolen Beats. Mit Infoständen der queeren Community.
URL:https://karlsruhepuls.de/events/pride-on-ice/
LOCATION:Schlossplatz Karlsruhe\, Schlossplatz\, Karlsruhe\, 76131
CATEGORIES:Sport
END:VEVENT
BEGIN:VEVENT
DTSTART;TZID=Europe/Berlin:20260117T160000
DTEND;TZID=Europe/Berlin:20260117T160000
DTSTAMP:20260421T191138
CREATED:20251222T083830Z
LAST-MODIFIED:20260107T111647Z
UID:10003926-1768665600-1768665600@karlsruhepuls.de
SUMMARY:Cocktailkurs: Dry January Edition
DESCRIPTION:Im Gewölbekeller der Bar werden fünf alkoholfreie Cocktails gemixt. Dazu gibt es spannende Infos zur Geschichte der Cocktail-Welt und Fingerfood.
URL:https://karlsruhepuls.de/events/cocktailkurs-the-essentials-2/
LOCATION:The Door\, Hirschstraße 17\, Karlsruhe\, 76133
CATEGORIES:Genuss
END:VEVENT
BEGIN:VEVENT
DTSTART;TZID=Europe/Berlin:20260117T170000
DTEND;TZID=Europe/Berlin:20260117T170000
DTSTAMP:20260421T191138
CREATED:20260103T142333Z
LAST-MODIFIED:20260103T142333Z
UID:10003969-1768669200-1768669200@karlsruhepuls.de
SUMMARY:Maschenkino: Stricken und Häkeln mit Film
DESCRIPTION:Während der Film „Susan – verzweifelt gesucht“ (USA 1985\, deutsche Synchronfassung) läuft\, könnt ihr nach Herzenslust stricken oder häkeln.
URL:https://karlsruhepuls.de/events/maschenkino-stricken-und-haekeln-mit-film-2/
LOCATION:Kinemathek Karlsruhe\, Kaiserpassage 6\, Karlsruhe\, 76133
CATEGORIES:Film,Kreatives
END:VEVENT
BEGIN:VEVENT
DTSTART;TZID=Europe/Berlin:20260117T180000
DTEND;TZID=Europe/Berlin:20260117T200000
DTSTAMP:20260421T191138
CREATED:20251222T080845Z
LAST-MODIFIED:20251222T080845Z
UID:10003923-1768672800-1768680000@karlsruhepuls.de
SUMMARY:Konzert: 100 Jahre Gedok
DESCRIPTION:Das Künstlerinnen-Netzwerk feiert und erinnert mit seinem Konzert „Salon pur Ida“ – BalanceAkt an seine Gründerin Ida Dehmel.
URL:https://karlsruhepuls.de/events/konzert-100-jahre-gedok/
LOCATION:Wohnstift Rüppurr\, Erlenweg 2\, Karlsruhe\, 76199
CATEGORIES:Konzert
END:VEVENT
BEGIN:VEVENT
DTSTART;TZID=Europe/Berlin:20260117T190000
DTEND;TZID=Europe/Berlin:20260117T190000
DTSTAMP:20260421T191138
CREATED:20260108T091803Z
LAST-MODIFIED:20260108T091803Z
UID:10003998-1768676400-1768676400@karlsruhepuls.de
SUMMARY:Lesung: Alicia Sérieux
DESCRIPTION:Die Autorin liest aus ihrem Roman „Shadowbound – das Vermächtnis der Schatten“. Es gibt eine Signierstunde\, außerdem könnt ihr Duftkerzen gestalten.
URL:https://karlsruhepuls.de/events/lesung-alicia-serieux/
LOCATION:Stephanus-Buchhandlung\, Herrenstraße 34\, Karlsruhe\, 76133
CATEGORIES:Lesung
END:VEVENT
BEGIN:VEVENT
DTSTART;TZID=Europe/Berlin:20260117T203000
DTEND;TZID=Europe/Berlin:20260117T203000
DTSTAMP:20260421T191138
CREATED:20260114T073951Z
LAST-MODIFIED:20260114T073951Z
UID:10004026-1768681800-1768681800@karlsruhepuls.de
SUMMARY:Livemusik Linden´s Irish Pub
DESCRIPTION:Sophie Kingdon live! Die Songwriterin singt Folk\, Rock und Originals.
URL:https://karlsruhepuls.de/events/livemusik-lindens-irish-pub/
LOCATION:Linden´s Irish Pub\, Hirschstraße 70\, Karlsruhe\, 76133
CATEGORIES:Konzert
END:VEVENT
BEGIN:VEVENT
DTSTART;TZID=Europe/Berlin:20260117T210000
DTEND;TZID=Europe/Berlin:20260117T210000
DTSTAMP:20260421T191138
CREATED:20260104T085640Z
LAST-MODIFIED:20260104T085640Z
UID:10003973-1768683600-1768683600@karlsruhepuls.de
SUMMARY:Konzert: Super Smacz Bros
DESCRIPTION:Zwei Brüder spielen die besten Songs aus den 80er- und 90er-Jahren und alles\, was Spaß und gute Laune macht.
URL:https://karlsruhepuls.de/events/konzert-super-smacz-bros/
LOCATION:Scruffys Irish Pub\, Karlstraße 4\, Karlsruhe\, 76133
CATEGORIES:Konzert
END:VEVENT
END:VCALENDAR