BEGIN:VCALENDAR
VERSION:2.0
PRODID:-//Karlsruhepuls - ECPv6.14.2//NONSGML v1.0//EN
CALSCALE:GREGORIAN
METHOD:PUBLISH
X-ORIGINAL-URL:https://karlsruhepuls.de
X-WR-CALDESC:Veranstaltungen für Karlsruhepuls
REFRESH-INTERVAL;VALUE=DURATION:PT1H
X-Robots-Tag:noindex
X-PUBLISHED-TTL:PT1H
BEGIN:VTIMEZONE
TZID:Europe/Berlin
BEGIN:DAYLIGHT
TZOFFSETFROM:+0100
TZOFFSETTO:+0200
TZNAME:CEST
DTSTART:20260329T010000
END:DAYLIGHT
BEGIN:STANDARD
TZOFFSETFROM:+0200
TZOFFSETTO:+0100
TZNAME:CET
DTSTART:20261025T010000
END:STANDARD
END:VTIMEZONE
BEGIN:VEVENT
DTSTART;TZID=Europe/Berlin:20260121T150000
DTEND;TZID=Europe/Berlin:20260121T170000
DTSTAMP:20260423T124256
CREATED:20260115T080425Z
LAST-MODIFIED:20260115T080425Z
UID:10004037-1769007600-1769014800@karlsruhepuls.de
SUMMARY:Offene Rechtsberatung
DESCRIPTION:Ohne Voranmeldung gibt es kostenfreie Beratung über die Themen Aufenthaltsrecht\, Asylrecht\, Mietrecht und allgemeines Zivilrecht.
URL:https://karlsruhepuls.de/events/offene-rechtsberatung/
LOCATION:Kulturküche\, Kaiserstraße 47\, Karlsruhe\, 76131
END:VEVENT
BEGIN:VEVENT
DTSTART;TZID=Europe/Berlin:20260121T160000
DTEND;TZID=Europe/Berlin:20260121T160000
DTSTAMP:20260423T124256
CREATED:20250521T080733Z
LAST-MODIFIED:20260112T084412Z
UID:10000532-1769011200-1769011200@karlsruhepuls.de
SUMMARY:Kleidertausch
DESCRIPTION:Du hast einfach nichts Passendes zum Anziehen und suchst Abwechslung? Dann bring deine Klamotten vorbei und tausche sie gegen neue Schätze!
URL:https://karlsruhepuls.de/events/kleidertausch/
LOCATION:Z10\, Zähringer Str. 10\, Karlsruhe\, 76131
CATEGORIES:Flohmarkt
END:VEVENT
BEGIN:VEVENT
DTSTART;TZID=Europe/Berlin:20260121T180000
DTEND;TZID=Europe/Berlin:20260121T200000
DTSTAMP:20260423T124256
CREATED:20260109T092832Z
LAST-MODIFIED:20260109T092833Z
UID:10004005-1769018400-1769025600@karlsruhepuls.de
SUMMARY:Markamee-Schmuck-Workshop
DESCRIPTION:Zuerst lernt ihr grundlegende Techniken des Makramee kennen und knüpft ein Armband. Danach könnt ihr ganz individuell ein persönliches Werk gestalten.
URL:https://karlsruhepuls.de/events/markamee-schmuck-workshop/
LOCATION:Kreativwerkstatt Karlsruhe\, Haid-und-Neu-Straße 6 a\, Karlsruhe\, 76131
CATEGORIES:Kreatives,Workshop
END:VEVENT
BEGIN:VEVENT
DTSTART;TZID=Europe/Berlin:20260121T200000
DTEND;TZID=Europe/Berlin:20260121T210000
DTSTAMP:20260423T124256
CREATED:20260113T084633Z
LAST-MODIFIED:20260113T090755Z
UID:10004022-1769025600-1769029200@karlsruhepuls.de
SUMMARY:Zukunft ist jetzt: Out of the Blue
DESCRIPTION:Silke Huysmans & Hannes Dereere blicken auf die Folgen des Bergbaus auf der pazifischen Insel Nauru. Englisches Dokumentartheater mit deutschen Übertiteln. \n 
URL:https://karlsruhepuls.de/events/out-of-the-blue/
LOCATION:Tollhaus\, Alter Schlachthof 35\, Karlsruhe\, 76131
CATEGORIES:Theater
END:VEVENT
END:VCALENDAR