BEGIN:VCALENDAR
VERSION:2.0
PRODID:-//Karlsruhepuls - ECPv6.14.2//NONSGML v1.0//EN
CALSCALE:GREGORIAN
METHOD:PUBLISH
X-WR-CALNAME:Karlsruhepuls
X-ORIGINAL-URL:https://karlsruhepuls.de
X-WR-CALDESC:Veranstaltungen für Karlsruhepuls
REFRESH-INTERVAL;VALUE=DURATION:PT1H
X-Robots-Tag:noindex
X-PUBLISHED-TTL:PT1H
BEGIN:VTIMEZONE
TZID:Europe/Berlin
BEGIN:DAYLIGHT
TZOFFSETFROM:+0100
TZOFFSETTO:+0200
TZNAME:CEST
DTSTART:20260329T010000
END:DAYLIGHT
BEGIN:STANDARD
TZOFFSETFROM:+0200
TZOFFSETTO:+0100
TZNAME:CET
DTSTART:20261025T010000
END:STANDARD
END:VTIMEZONE
BEGIN:VEVENT
DTSTART;TZID=Europe/Berlin:20260129T110000
DTEND;TZID=Europe/Berlin:20260129T160000
DTSTAMP:20260425T173812
CREATED:20260116T084814Z
LAST-MODIFIED:20260116T084935Z
UID:10004058-1769684400-1769702400@karlsruhepuls.de
SUMMARY:Pfennigbasar: Abgabe
DESCRIPTION:Ideal\, um endlich Platz zu schaffen: An drei Tagen könnt ihr alles\, was ihr nicht mehr braucht – sauber und funktionsfähig – abgeben.
URL:https://karlsruhepuls.de/events/pfennigbasar-abgabe/
END:VEVENT
BEGIN:VEVENT
DTSTART;TZID=Europe/Berlin:20260129T143000
DTEND;TZID=Europe/Berlin:20260129T170000
DTSTAMP:20260425T173812
CREATED:20251230T082230Z
LAST-MODIFIED:20251230T082530Z
UID:10003948-1769697000-1769706000@karlsruhepuls.de
SUMMARY:Spielcafé Würfel und Zucker
DESCRIPTION:Du magst Brett- und Gesellschaftsspiele? Dann komm vorbei! Groß und Klein sind herzlich willkommen\, um in einer freundlichen Atmosphäre zu spielen.
URL:https://karlsruhepuls.de/events/spielcafe-wuerfel-und-zucker/2026-01-29/
LOCATION:Quino – AWO Quartierscafé\, Adlerstraße 33\, Karlsruhe\, 76133
CATEGORIES:Spiel
END:VEVENT
END:VCALENDAR