BEGIN:VCALENDAR
VERSION:2.0
PRODID:-//Karlsruhepuls - ECPv6.14.2//NONSGML v1.0//EN
CALSCALE:GREGORIAN
METHOD:PUBLISH
X-ORIGINAL-URL:https://karlsruhepuls.de
X-WR-CALDESC:Veranstaltungen für Karlsruhepuls
REFRESH-INTERVAL;VALUE=DURATION:PT1H
X-Robots-Tag:noindex
X-PUBLISHED-TTL:PT1H
BEGIN:VTIMEZONE
TZID:Europe/Berlin
BEGIN:DAYLIGHT
TZOFFSETFROM:+0100
TZOFFSETTO:+0200
TZNAME:CEST
DTSTART:20250330T010000
END:DAYLIGHT
BEGIN:STANDARD
TZOFFSETFROM:+0200
TZOFFSETTO:+0100
TZNAME:CET
DTSTART:20251026T010000
END:STANDARD
END:VTIMEZONE
BEGIN:VEVENT
DTSTART;TZID=Europe/Berlin:20250313T080000
DTEND;TZID=Europe/Berlin:20250313T170000
DTSTAMP:20260419T180924
CREATED:20250313T211327Z
LAST-MODIFIED:20250322T230506Z
UID:10000094-1741852800-1741885200@karlsruhepuls.de
SUMMARY:Trink Wasser! Spazier-Tour zu Karlsruher Trinkbrunnen
DESCRIPTION:Wo stehen in Karlsruhe Brunnen mit Trinkwasser\, wie erkennt man sie und wer kümmert sich darum? Das erfahrt ihr beim Spaziergang in der Innenstadt.
URL:https://karlsruhepuls.de/events/trink-wasser-spazier-tour-zu-karlsruher-trinkbrunnen/2025-03-13/
LOCATION:Schaufenster Karlsruhe\, Kaiserstraße 72\, Karlsruhe\, 76133
CATEGORIES:Stadtführung
END:VEVENT
BEGIN:VEVENT
DTSTART;TZID=Europe/Berlin:20250313T190000
DTEND;TZID=Europe/Berlin:20250313T190000
DTSTAMP:20260419T180924
CREATED:20250307T221032Z
LAST-MODIFIED:20250312T163134Z
UID:10000001-1741892400-1741892400@karlsruhepuls.de
SUMMARY:Weinstammtisch mit Menü
DESCRIPTION:3-Gang-Menü aus der Aurum-Küche und dazu verschiedene Weine mit Moderation von Winzer Tim Ritter vom Weingut Klumpp.
URL:https://karlsruhepuls.de/events/weinstammtisch/
LOCATION:Aurum\, Alter Schlachthof 45\, Karlsruhe\, 76131\, Germany
CATEGORIES:Genuss
END:VEVENT
BEGIN:VEVENT
DTSTART;TZID=Europe/Berlin:20250315T130000
DTEND;TZID=Europe/Berlin:20250315T130000
DTSTAMP:20260419T180924
CREATED:20250311T081514Z
LAST-MODIFIED:20250314T212916Z
UID:10000011-1742043600-1742043600@karlsruhepuls.de
SUMMARY:Grooving ´n´ Grabbing
DESCRIPTION:In den großzügigen Altbau-Räumen des Vintage-Ladens könnt ihr nicht nur preloved Fashion shoppen sondern auch DJ-Sounds genießen und Schmuck von temporären Ausstellern entdecken.
URL:https://karlsruhepuls.de/events/grooving-n-grabbing/2025-03-15/
LOCATION:Vintage Revivals\, Karlstraße 66\, Karlsruhe\, 76137
END:VEVENT
BEGIN:VEVENT
DTSTART;TZID=Europe/Berlin:20250316T110000
DTEND;TZID=Europe/Berlin:20250322T000000
DTSTAMP:20260419T180924
CREATED:20250318T164254Z
LAST-MODIFIED:20250318T165438Z
UID:10000137-1742122800-1742601600@karlsruhepuls.de
SUMMARY:Figurentheater: Der kleine Drache Kokosnuss im Spukschloss
DESCRIPTION:Erlebe den kleinen Drachen Kokosnuss live! Das Rieser Figurentheater bringt die beliebte Geschichte von Ingo Siegner nach Karlsruhe. Ein großes Abenteuer für den kleinen Drachen Kokosnuss und ein zauberhaftes Erlebnis für Kinder ab vier Jahren und ihre Familien. \nDarum geht’s in „Der kleine Drache Kokosnuss im Spukschloss“\nKokosnuss und Matilda suchen Schutz vor einem Gewitter – ausgerechnet in einem unheimlichen Schloss! Um Mitternacht taucht das Gespenst Klemenzia auf. Was steckt dahinter? Mit einem echten Gespenster-Experten nehmen Kokosnuss und Matilda allen Mut zusammen\, um das Rätsel zu lösen. \nMagisches Figurentheater für die ganze Familie\nDas Rieser Figurentheater begeistert mit kunstvoll gestalteten Puppen\, atmosphärischen Kulissen und einer Erzählweise\, die Kinder wie Erwachsene in ihren Bann zieht. Das beheizte Theaterzelt auf dem Festplatz in Knielingen sorgt zusätzlich für eine gemütliche Stimmung. \nJetzt Tickets sichern!\nKarten für „Der kleine Drache Kokosnuss im Spukschloss“ gibt es im Vorverkauf bei Eventim und an der Tageskasse vor Ort. \n\nVERLOSUNG: 5 x 2 Tickets für den 22. März um 16 Uhr\nIhr möchtet den kleinen Drachen Kokosnuss im Spukschloss erleben? Dann schreibt uns bis zum 17. März 2025\, 14 Uhr\, eine E-Mail an gewinnspiel@karlsruhepuls.de und gewinnt mit etwas Glück Tickets für die Vorstellung am 22. März um 16 Uhr. Bitte nennt uns euren vollen Namen und eure E-Mail-Adresse\, damit wir sie dem Veranstalter zuschicken können\, falls ihr gewinnt. \nDie Gewinner werden per Zufallsprinzip ausgelost und bekommen von uns im Anschluss eine Nachricht per E-Mail. Die Daten werden nur für die Gewinnbenachrichtigung verwendet. Alle E-Mails und persönlichen Informationen werden nach dem Ende des Gewinnspiels von uns gelöscht. Eine Barauszahlung und der Rechtsweg sind ausgeschlossen. Alle Infos zur Abwicklung unserer Gewinnspiele findest du in unseren Gewinnspiel-AGB.
URL:https://karlsruhepuls.de/events/figurentheater-der-kleine-drache-kokosnuss-im-spukschloss/
LOCATION:Festplatz Knielingen\, Eggensteiner Straße (Nähe der SVK Sängerhalle)\, Karlsruhe\, 76187
CATEGORIES:Kinder und Familien
ATTACH;FMTTYPE=image/jpeg:https://karlsruhepuls.de/wp-content/uploads/2025/03/Der-kleine-Drache-Kokosnuss-im-Spukschloss-c-Rieser-Figurentheater.jpg
END:VEVENT
BEGIN:VEVENT
DTSTART;TZID=Europe/Berlin:20250316T140000
DTEND;TZID=Europe/Berlin:20250316T140000
DTSTAMP:20260419T180924
CREATED:20250312T134226Z
LAST-MODIFIED:20250312T134239Z
UID:10000044-1742133600-1742133600@karlsruhepuls.de
SUMMARY:Ausstellung "Zeichnung und Skulptur"
DESCRIPTION:
URL:https://karlsruhepuls.de/events/ausstellung-zeichnung-und-skulptur/2025-03-16/
LOCATION:Galerie Kunstfachwerk N6\, Niddastraße 6\, Karlsruhe\, 76229\, Germany
END:VEVENT
END:VCALENDAR