BEGIN:VCALENDAR
VERSION:2.0
PRODID:-//Karlsruhepuls - ECPv6.14.2//NONSGML v1.0//EN
CALSCALE:GREGORIAN
METHOD:PUBLISH
X-WR-CALNAME:Karlsruhepuls
X-ORIGINAL-URL:https://karlsruhepuls.de
X-WR-CALDESC:Veranstaltungen für Karlsruhepuls
REFRESH-INTERVAL;VALUE=DURATION:PT1H
X-Robots-Tag:noindex
X-PUBLISHED-TTL:PT1H
BEGIN:VTIMEZONE
TZID:Europe/Berlin
BEGIN:DAYLIGHT
TZOFFSETFROM:+0100
TZOFFSETTO:+0200
TZNAME:CEST
DTSTART:20260329T010000
END:DAYLIGHT
BEGIN:STANDARD
TZOFFSETFROM:+0200
TZOFFSETTO:+0100
TZNAME:CET
DTSTART:20261025T010000
END:STANDARD
END:VTIMEZONE
BEGIN:VEVENT
DTSTART;TZID=Europe/Berlin:20260417T170000
DTEND;TZID=Europe/Berlin:20260417T230000
DTSTAMP:20260423T124451
CREATED:20260415T115751Z
LAST-MODIFIED:20260415T115751Z
UID:10004644-1776445200-1776466800@karlsruhepuls.de
SUMMARY:Fry-Day
DESCRIPTION:Kommt vorbei und genießt leckeres\, heißes Frittiertes sowie Drinks und Vinyl-Sets.
URL:https://karlsruhepuls.de/events/fry-day/
LOCATION:dammer.stock\, Nürnberger Straße 1\, Karlsruhe\, 76133
CATEGORIES:Party
END:VEVENT
BEGIN:VEVENT
DTSTART;TZID=Europe/Berlin:20260111T110000
DTEND;TZID=Europe/Berlin:20260111T110000
DTSTAMP:20260423T124451
CREATED:20260107T082725Z
LAST-MODIFIED:20260107T122747Z
UID:10003985-1768129200-1768129200@karlsruhepuls.de
SUMMARY:Party: Tabula Rasa Baustellen-Drinking
DESCRIPTION:Neugierige sind schon vor der Eröffnung eingeladen. Schnäppchenjagd möglich und Drei DJs sorgen mit Boogie\, Synths\, Jazz\, Hip-Hop und Soul für funky Stimmung. \n 
URL:https://karlsruhepuls.de/events/party-tabula-rasa-baustellen-drinking/
LOCATION:dammer.stock\, Nürnberger Straße 1\, Karlsruhe\, 76133
CATEGORIES:Party
END:VEVENT
END:VCALENDAR