BEGIN:VCALENDAR
VERSION:2.0
PRODID:-//Karlsruhepuls - ECPv6.14.2//NONSGML v1.0//EN
CALSCALE:GREGORIAN
METHOD:PUBLISH
X-WR-CALNAME:Karlsruhepuls
X-ORIGINAL-URL:https://karlsruhepuls.de
X-WR-CALDESC:Veranstaltungen für Karlsruhepuls
REFRESH-INTERVAL;VALUE=DURATION:PT1H
X-Robots-Tag:noindex
X-PUBLISHED-TTL:PT1H
BEGIN:VTIMEZONE
TZID:Europe/Berlin
BEGIN:DAYLIGHT
TZOFFSETFROM:+0100
TZOFFSETTO:+0200
TZNAME:CEST
DTSTART:20250330T010000
END:DAYLIGHT
BEGIN:STANDARD
TZOFFSETFROM:+0200
TZOFFSETTO:+0100
TZNAME:CET
DTSTART:20251026T010000
END:STANDARD
END:VTIMEZONE
BEGIN:VEVENT
DTSTART;TZID=Europe/Berlin:20250430T180000
DTEND;TZID=Europe/Berlin:20250430T180000
DTSTAMP:20260423T131302
CREATED:20250430T064033Z
LAST-MODIFIED:20250430T064033Z
UID:10000430-1746036000-1746036000@karlsruhepuls.de
SUMMARY:BBQ Biergarten-Opening – feiere in den Mai
DESCRIPTION:Heute gibt es bei lockerer Stimmung coole Getränke und Snacks\, Heißes vom Grill und Spritziges von der Theke. Mit Voranmeldung!
URL:https://karlsruhepuls.de/events/bbq-biergarten-opening/
LOCATION:Die Appenmühle\, Kornweg 33\, Karlsruhe\, 76185
END:VEVENT
END:VCALENDAR