BEGIN:VCALENDAR
VERSION:2.0
PRODID:-//Karlsruhepuls - ECPv6.14.2//NONSGML v1.0//EN
CALSCALE:GREGORIAN
METHOD:PUBLISH
X-WR-CALNAME:Karlsruhepuls
X-ORIGINAL-URL:https://karlsruhepuls.de
X-WR-CALDESC:Veranstaltungen für Karlsruhepuls
REFRESH-INTERVAL;VALUE=DURATION:PT1H
X-Robots-Tag:noindex
X-PUBLISHED-TTL:PT1H
BEGIN:VTIMEZONE
TZID:Europe/Berlin
BEGIN:DAYLIGHT
TZOFFSETFROM:+0100
TZOFFSETTO:+0200
TZNAME:CEST
DTSTART:20250330T010000
END:DAYLIGHT
BEGIN:STANDARD
TZOFFSETFROM:+0200
TZOFFSETTO:+0100
TZNAME:CET
DTSTART:20251026T010000
END:STANDARD
END:VTIMEZONE
BEGIN:VEVENT
DTSTART;TZID=Europe/Berlin:20250629T103000
DTEND;TZID=Europe/Berlin:20250629T183000
DTSTAMP:20260419T152407
CREATED:20250623T124413Z
LAST-MODIFIED:20250623T124413Z
UID:10001422-1751193000-1751221800@karlsruhepuls.de
SUMMARY:Sommerfest Feuerwehr Bulach
DESCRIPTION:Zwei Tage lang dauert das Fest rund um das Feuerwehrgerätehaus. Samstags gibt es Livemusik\, sonntags locken Hüpfburg und Kinderprogramm.
URL:https://karlsruhepuls.de/events/sommerfest-feuerwehr-bulach/2025-06-29/
LOCATION:Feuerwehrhaus\, Rolandstraße 15\, Karlsruhe\, 76135
CATEGORIES:Straßenfest
END:VEVENT
BEGIN:VEVENT
DTSTART;TZID=Europe/Berlin:20250628T160000
DTEND;TZID=Europe/Berlin:20250628T160000
DTSTAMP:20260419T152407
CREATED:20250623T124413Z
LAST-MODIFIED:20250623T124413Z
UID:10001421-1751126400-1751126400@karlsruhepuls.de
SUMMARY:Sommerfest Feuerwehr Bulach
DESCRIPTION:Zwei Tage lang dauert das Fest rund um das Feuerwehrgerätehaus. Samstags gibt es Livemusik\, sonntags locken Hüpfburg und Kinderprogramm.
URL:https://karlsruhepuls.de/events/sommerfest-feuerwehr-bulach/2025-06-28/
LOCATION:Feuerwehrhaus\, Rolandstraße 15\, Karlsruhe\, 76135
CATEGORIES:Straßenfest
END:VEVENT
END:VCALENDAR