BEGIN:VCALENDAR
VERSION:2.0
PRODID:-//Karlsruhepuls - ECPv6.14.2//NONSGML v1.0//EN
CALSCALE:GREGORIAN
METHOD:PUBLISH
X-ORIGINAL-URL:https://karlsruhepuls.de
X-WR-CALDESC:Veranstaltungen für Karlsruhepuls
REFRESH-INTERVAL;VALUE=DURATION:PT1H
X-Robots-Tag:noindex
X-PUBLISHED-TTL:PT1H
BEGIN:VTIMEZONE
TZID:Europe/Berlin
BEGIN:DAYLIGHT
TZOFFSETFROM:+0100
TZOFFSETTO:+0200
TZNAME:CEST
DTSTART:20250330T010000
END:DAYLIGHT
BEGIN:STANDARD
TZOFFSETFROM:+0200
TZOFFSETTO:+0100
TZNAME:CET
DTSTART:20251026T010000
END:STANDARD
END:VTIMEZONE
BEGIN:VEVENT
DTSTART;TZID=Europe/Berlin:20250829T190000
DTEND;TZID=Europe/Berlin:20250830T000000
DTSTAMP:20260419T163119
CREATED:20250813T091830Z
LAST-MODIFIED:20250813T091830Z
UID:10002836-1756494000-1756512000@karlsruhepuls.de
SUMMARY:Ludwigsplatzfest
DESCRIPTION:Genießt die Stimmung\, coole Drinks und Essen in besonderer Atmosphäre. Freitag ab 19 Uhr mit DJ MiamiNice\, Samstag ab 19 Uhr mit The DJBUS/DIDI.
URL:https://karlsruhepuls.de/events/ludwigsplatzfest/
LOCATION:Ludwigsplatz\, Karlstraße 19\, Karlsruhe\, 76133
CATEGORIES:Straßenfest
END:VEVENT
END:VCALENDAR