BEGIN:VCALENDAR
VERSION:2.0
PRODID:-//Karlsruhepuls - ECPv6.14.2//NONSGML v1.0//EN
CALSCALE:GREGORIAN
METHOD:PUBLISH
X-ORIGINAL-URL:https://karlsruhepuls.de
X-WR-CALDESC:Veranstaltungen für Karlsruhepuls
REFRESH-INTERVAL;VALUE=DURATION:PT1H
X-Robots-Tag:noindex
X-PUBLISHED-TTL:PT1H
BEGIN:VTIMEZONE
TZID:Europe/Berlin
BEGIN:DAYLIGHT
TZOFFSETFROM:+0100
TZOFFSETTO:+0200
TZNAME:CEST
DTSTART:20260329T010000
END:DAYLIGHT
BEGIN:STANDARD
TZOFFSETFROM:+0200
TZOFFSETTO:+0100
TZNAME:CET
DTSTART:20261025T010000
END:STANDARD
END:VTIMEZONE
BEGIN:VEVENT
DTSTART;TZID=Europe/Berlin:20260430T180000
DTEND;TZID=Europe/Berlin:20260430T180000
DTSTAMP:20260425T184425
CREATED:20260416T083430Z
LAST-MODIFIED:20260416T084320Z
UID:10004649-1777572000-1777572000@karlsruhepuls.de
SUMMARY:Maifest Musikverein Durlach Aue
DESCRIPTION:Euch erwartet ein musikalisches Programm verschiedener Musikvereine aus dem Raum\, Samstag ab 20 Uhr Stimmung mit Partyband Tino und Tanja.
URL:https://karlsruhepuls.de/events/maifest-musikverein-durlach-aue/2026-04-30/
LOCATION:Musikverein 1956 Durlach-Aue e. V.\, Steiermärkerstraße 19\, Karlsruhe\, 76277
CATEGORIES:Straßenfest
END:VEVENT
BEGIN:VEVENT
DTSTART;TZID=Europe/Berlin:20260501T110000
DTEND;TZID=Europe/Berlin:20260501T180000
DTSTAMP:20260425T184425
CREATED:20260416T083430Z
LAST-MODIFIED:20260416T084320Z
UID:10004650-1777633200-1777658400@karlsruhepuls.de
SUMMARY:Maifest Musikverein Durlach Aue
DESCRIPTION:Euch erwartet ein musikalisches Programm verschiedener Musikvereine aus dem Raum\, Samstag ab 20 Uhr Stimmung mit Partyband Tino und Tanja.
URL:https://karlsruhepuls.de/events/maifest-musikverein-durlach-aue/2026-05-01/
LOCATION:Musikverein 1956 Durlach-Aue e. V.\, Steiermärkerstraße 19\, Karlsruhe\, 76277
CATEGORIES:Straßenfest
END:VEVENT
END:VCALENDAR