BEGIN:VCALENDAR
VERSION:2.0
PRODID:-//Karlsruhepuls - ECPv6.14.2//NONSGML v1.0//EN
CALSCALE:GREGORIAN
METHOD:PUBLISH
X-WR-CALNAME:Karlsruhepuls
X-ORIGINAL-URL:https://karlsruhepuls.de
X-WR-CALDESC:Veranstaltungen für Karlsruhepuls
REFRESH-INTERVAL;VALUE=DURATION:PT1H
X-Robots-Tag:noindex
X-PUBLISHED-TTL:PT1H
BEGIN:VTIMEZONE
TZID:Europe/Berlin
BEGIN:DAYLIGHT
TZOFFSETFROM:+0100
TZOFFSETTO:+0200
TZNAME:CEST
DTSTART:20260329T010000
END:DAYLIGHT
BEGIN:STANDARD
TZOFFSETFROM:+0200
TZOFFSETTO:+0100
TZNAME:CET
DTSTART:20261025T010000
END:STANDARD
END:VTIMEZONE
BEGIN:VEVENT
DTSTART;TZID=Europe/Berlin:20260530T190000
DTEND;TZID=Europe/Berlin:20260530T190000
DTSTAMP:20260425T171721
CREATED:20260420T080826Z
LAST-MODIFIED:20260420T080826Z
UID:10004666-1780167600-1780167600@karlsruhepuls.de
SUMMARY:10 Jahre Phono
DESCRIPTION:Der Abend beginnt mit Fassbieranstich\, dazu gibt’s leckeres Essen von der Werkbank und Flüssiges von Gamerbräu und Unverhopft.
URL:https://karlsruhepuls.de/events/10-jahre-phono/
LOCATION:Phono Kraftbierbar\, Karl-Wilhelm-Straße 6\, Karlsruhe\, 76131
CATEGORIES:Jubiläum,Party
END:VEVENT
END:VCALENDAR