BEGIN:VCALENDAR
VERSION:2.0
PRODID:-//Karlsruhepuls - ECPv6.14.2//NONSGML v1.0//EN
CALSCALE:GREGORIAN
METHOD:PUBLISH
X-WR-CALNAME:Karlsruhepuls
X-ORIGINAL-URL:https://karlsruhepuls.de
X-WR-CALDESC:Veranstaltungen für Karlsruhepuls
REFRESH-INTERVAL;VALUE=DURATION:PT1H
X-Robots-Tag:noindex
X-PUBLISHED-TTL:PT1H
BEGIN:VTIMEZONE
TZID:Europe/Berlin
BEGIN:DAYLIGHT
TZOFFSETFROM:+0100
TZOFFSETTO:+0200
TZNAME:CEST
DTSTART:20260329T010000
END:DAYLIGHT
BEGIN:STANDARD
TZOFFSETFROM:+0200
TZOFFSETTO:+0100
TZNAME:CET
DTSTART:20261025T010000
END:STANDARD
END:VTIMEZONE
BEGIN:VEVENT
DTSTART;TZID=Europe/Berlin:20260425T100000
DTEND;TZID=Europe/Berlin:20260425T200000
DTSTAMP:20260420T145353
CREATED:20260407T191000Z
LAST-MODIFIED:20260408T122253Z
UID:10004592-1777111200-1777147200@karlsruhepuls.de
SUMMARY:Fest der Sinne – Action und Kreativität in der Postgalerie!
DESCRIPTION:An diesem Wochenende verwandelt sich Karlsruhe wieder in ein buntes Erlebnisparadies und die Postgalerie bietet den Besuchern nicht nur einen verkaufsoffenen Sonntag\, sondern auch aufregende Mitmach-Stationen! \nKreativ werden in der Postgalerie \nWer seiner Kreativität freien Lauf lassen möchte\, ist im Erdgeschoss der Postgalerie genau richtig. An der Airbrush-Station mit Carmensita könnt ihr eure eigene Shoppingbag gestalten und ein echtes Unikat mit nach Hause nehmen! \nDie Aktion ist am Samstag\, den 25. April und am Sonntag\, den 26. April jeweils von 13 bis 18 Uhr im EG zu finden – und das Beste: Sie ist völlig kostenlos! \nNinja-Action auf dem Stephanplatz \nFür alle kleinen und großen Sportler gibt es draußen auf dem Stephanplatz ein ganz besonderes Highlight: Partus und Ninja World Karlsruhe bauen einen Ninja-Parcours auf\, der Herz und Muskeln fordert. Klettern\, balancieren\, springen – hier können alle ab 7 Jahren zeigen\, was in ihnen steckt. Der Parcours ist an beiden Tagen von 11 bis 19 Uhr geöffnet.
URL:https://karlsruhepuls.de/events/fest-der-sinne-ein-wochenende-voller-abenteuer/2026-04-25/
LOCATION:Postgalerie\, Kaiserstraße 217\, Karlsruhe\, 76133
CATEGORIES:Aktionstag/e
ATTACH;FMTTYPE=image/png:https://karlsruhepuls.de/wp-content/uploads/2026/04/Postgalerie-Stephanplatz-Fest-der-Sinne-2026.png
END:VEVENT
BEGIN:VEVENT
DTSTART;TZID=Europe/Berlin:20260426T130000
DTEND;TZID=Europe/Berlin:20260426T180000
DTSTAMP:20260420T145353
CREATED:20260407T191000Z
LAST-MODIFIED:20260408T122253Z
UID:10004594-1777208400-1777226400@karlsruhepuls.de
SUMMARY:Fest der Sinne – Action und Kreativität in der Postgalerie!
DESCRIPTION:An diesem Wochenende verwandelt sich Karlsruhe wieder in ein buntes Erlebnisparadies und die Postgalerie bietet den Besuchern nicht nur einen verkaufsoffenen Sonntag\, sondern auch aufregende Mitmach-Stationen! \nKreativ werden in der Postgalerie \nWer seiner Kreativität freien Lauf lassen möchte\, ist im Erdgeschoss der Postgalerie genau richtig. An der Airbrush-Station mit Carmensita könnt ihr eure eigene Shoppingbag gestalten und ein echtes Unikat mit nach Hause nehmen! \nDie Aktion ist am Samstag\, den 25. April und am Sonntag\, den 26. April jeweils von 13 bis 18 Uhr im EG zu finden – und das Beste: Sie ist völlig kostenlos! \nNinja-Action auf dem Stephanplatz \nFür alle kleinen und großen Sportler gibt es draußen auf dem Stephanplatz ein ganz besonderes Highlight: Partus und Ninja World Karlsruhe bauen einen Ninja-Parcours auf\, der Herz und Muskeln fordert. Klettern\, balancieren\, springen – hier können alle ab 7 Jahren zeigen\, was in ihnen steckt. Der Parcours ist an beiden Tagen von 11 bis 19 Uhr geöffnet.
URL:https://karlsruhepuls.de/events/fest-der-sinne-ein-wochenende-voller-abenteuer/2026-04-26/
LOCATION:Postgalerie\, Kaiserstraße 217\, Karlsruhe\, 76133
CATEGORIES:Aktionstag/e
ATTACH;FMTTYPE=image/png:https://karlsruhepuls.de/wp-content/uploads/2026/04/Postgalerie-Stephanplatz-Fest-der-Sinne-2026.png
END:VEVENT
END:VCALENDAR