BEGIN:VCALENDAR
VERSION:2.0
PRODID:-//Karlsruhepuls - ECPv6.14.2//NONSGML v1.0//EN
CALSCALE:GREGORIAN
METHOD:PUBLISH
X-ORIGINAL-URL:https://karlsruhepuls.de
X-WR-CALDESC:Veranstaltungen für Karlsruhepuls
REFRESH-INTERVAL;VALUE=DURATION:PT1H
X-Robots-Tag:noindex
X-PUBLISHED-TTL:PT1H
BEGIN:VTIMEZONE
TZID:Europe/Berlin
BEGIN:DAYLIGHT
TZOFFSETFROM:+0100
TZOFFSETTO:+0200
TZNAME:CEST
DTSTART:20260329T010000
END:DAYLIGHT
BEGIN:STANDARD
TZOFFSETFROM:+0200
TZOFFSETTO:+0100
TZNAME:CET
DTSTART:20261025T010000
END:STANDARD
END:VTIMEZONE
BEGIN:VEVENT
DTSTART;TZID=Europe/Berlin:20260116T180000
DTEND;TZID=Europe/Berlin:20260116T220000
DTSTAMP:20260419T150826
CREATED:20260109T091025Z
LAST-MODIFIED:20260109T091136Z
UID:10004000-1768586400-1768600800@karlsruhepuls.de
SUMMARY:Vernissage: Echos of Shape
DESCRIPTION:Gezeigt werden Werke von Maya Fenderl und Ralph Kerstner. Die beiden Künstler\, die mit ihren Werken Geschichten erzählen\, sind anwesend.
URL:https://karlsruhepuls.de/events/vernissage-echos-of-shape/
LOCATION:Yvonne Hohner Contemporary\, Marienstraße 12\, Karlsruhe\, 76137
CATEGORIES:Vernissage
END:VEVENT
END:VCALENDAR