BEGIN:VCALENDAR
VERSION:2.0
PRODID:-//Karlsruhepuls - ECPv6.14.2//NONSGML v1.0//EN
CALSCALE:GREGORIAN
METHOD:PUBLISH
X-ORIGINAL-URL:https://karlsruhepuls.de
X-WR-CALDESC:Veranstaltungen für Karlsruhepuls
REFRESH-INTERVAL;VALUE=DURATION:PT1H
X-Robots-Tag:noindex
X-PUBLISHED-TTL:PT1H
BEGIN:VTIMEZONE
TZID:Europe/Berlin
BEGIN:DAYLIGHT
TZOFFSETFROM:+0100
TZOFFSETTO:+0200
TZNAME:CEST
DTSTART:20250330T010000
END:DAYLIGHT
BEGIN:STANDARD
TZOFFSETFROM:+0200
TZOFFSETTO:+0100
TZNAME:CET
DTSTART:20251026T010000
END:STANDARD
BEGIN:DAYLIGHT
TZOFFSETFROM:+0100
TZOFFSETTO:+0200
TZNAME:CEST
DTSTART:20260329T010000
END:DAYLIGHT
BEGIN:STANDARD
TZOFFSETFROM:+0200
TZOFFSETTO:+0100
TZNAME:CET
DTSTART:20261025T010000
END:STANDARD
END:VTIMEZONE
BEGIN:VEVENT
DTSTART;TZID=Europe/Berlin:20260425T150000
DTEND;TZID=Europe/Berlin:20260425T173000
DTSTAMP:20260425T174140
CREATED:20250714T124721Z
LAST-MODIFIED:20260324T103258Z
UID:10004403-1777129200-1777138200@karlsruhepuls.de
SUMMARY:It´s a match: Finde deinen Art Buddy
DESCRIPTION:Zehn Teilnehmende. Zehn Werke. Zehn Begegnungen. Du liebst Ausstellungen und suchst jemanden\, um sich darüber auszutauschen?
URL:https://karlsruhepuls.de/events/art-speeddating/2026-04-25/
LOCATION:ZKM – Zentrum für Kunst und Medien\, Lorenzstraße 19\, Karlsruhe\, 76135
CATEGORIES:Dating
END:VEVENT
BEGIN:VEVENT
DTSTART;TZID=Europe/Berlin:20260424T180000
DTEND;TZID=Europe/Berlin:20260424T180000
DTSTAMP:20260425T174140
CREATED:20260421T093020Z
LAST-MODIFIED:20260421T104257Z
UID:10004688-1777053600-1777053600@karlsruhepuls.de
SUMMARY:Afterwork-Party: The Screen – Finissage
DESCRIPTION:Tanzt vor einer riesigen LED-Wand zu elektronischen Beats und House-Flair mit DJ Lego. Eintritt frei!
URL:https://karlsruhepuls.de/events/afterwork-the-screen-finissage/
LOCATION:ZKM – Zentrum für Kunst und Medien\, Lorenzstraße 19\, Karlsruhe\, 76135
CATEGORIES:Afterwork
END:VEVENT
BEGIN:VEVENT
DTSTART;TZID=Europe/Berlin:20260419T160000
DTEND;TZID=Europe/Berlin:20260419T190000
DTSTAMP:20260425T174140
CREATED:20260414T173919Z
LAST-MODIFIED:20260414T173919Z
UID:10004640-1776614400-1776625200@karlsruhepuls.de
SUMMARY:Digital Independence-Day
DESCRIPTION:Wir holen uns unser digitales Leben zurück: dezentral\, frei von Monopolen. Mit praxisnahen Tipps für Alternativen und mehr Datenschutz.
URL:https://karlsruhepuls.de/events/digital-independence-day/
LOCATION:ZKM – Zentrum für Kunst und Medien\, Lorenzstraße 19\, Karlsruhe\, 76135
CATEGORIES:Workshop
END:VEVENT
BEGIN:VEVENT
DTSTART;TZID=Europe/Berlin:20260416T180000
DTEND;TZID=Europe/Berlin:20260416T230000
DTSTAMP:20260425T174140
CREATED:20260408T093717Z
LAST-MODIFIED:20260408T093717Z
UID:10004597-1776362400-1776380400@karlsruhepuls.de
SUMMARY:26 Grad: Graduiertenausstellung
DESCRIPTION:Rund 25 Absolvent:innen der HfG Karlsruhe zeigen ihre Abschlussarbeiten und Diplomprojekte aus verschiedenen Fachbereichen.
URL:https://karlsruhepuls.de/events/26-grad-graduiertenausstellung/
LOCATION:ZKM – Zentrum für Kunst und Medien\, Lorenzstraße 19\, Karlsruhe\, 76135
CATEGORIES:Vernissage
END:VEVENT
BEGIN:VEVENT
DTSTART;TZID=Europe/Berlin:20260415T150000
DTEND;TZID=Europe/Berlin:20260415T170000
DTSTAMP:20260425T174140
CREATED:20260317T070053Z
LAST-MODIFIED:20260317T070053Z
UID:10004514-1776265200-1776272400@karlsruhepuls.de
SUMMARY:Mittwochstreff: Frühling häkeln
DESCRIPTION:Zum Frühlingserwachsen häkeln wir gemeinsam Blumen und Blätter – für Anfänger:innen und Fortgeschrittene\, in entspannter\, kreativer Atmosphäre.
URL:https://karlsruhepuls.de/events/mittwochstreff-fruehling-haekeln/
LOCATION:ZKM – Zentrum für Kunst und Medien\, Lorenzstraße 19\, Karlsruhe\, 76135
CATEGORIES:Kreatives
END:VEVENT
BEGIN:VEVENT
DTSTART;TZID=Europe/Berlin:20260412T140000
DTEND;TZID=Europe/Berlin:20260412T170000
DTSTAMP:20260425T174140
CREATED:20260331T125817Z
LAST-MODIFIED:20260331T125817Z
UID:10004566-1776002400-1776013200@karlsruhepuls.de
SUMMARY:Workshop: Life is Tuft
DESCRIPTION:Tufting lernen\, eigene flauschige Kunst gestalten und sich kreativ vernetzen – meditative Praxis\, Austausch sowie neue Begegnungen inklusive.
URL:https://karlsruhepuls.de/events/life-is-tuft/
LOCATION:ZKM – Zentrum für Kunst und Medien\, Lorenzstraße 19\, Karlsruhe\, 76135
CATEGORIES:Kreatives
END:VEVENT
BEGIN:VEVENT
DTSTART;TZID=Europe/Berlin:20260328T110000
DTEND;TZID=Europe/Berlin:20260328T220000
DTSTAMP:20260425T174140
CREATED:20260327T082808Z
LAST-MODIFIED:20260327T083119Z
UID:10004538-1774695600-1774735200@karlsruhepuls.de
SUMMARY:Ausstellungseröffnung: The Screen 2
DESCRIPTION:Sasha Stiles bahnt neue Wege: als Co-Autorin erforscht sie mit ihrem Alter Ego Technelegy\, was Menschsein im KI-Zeitalter bedeutet.
URL:https://karlsruhepuls.de/events/the-screen-2/
LOCATION:ZKM – Zentrum für Kunst und Medien\, Lorenzstraße 19\, Karlsruhe\, 76135
CATEGORIES:Ausstellung
END:VEVENT
BEGIN:VEVENT
DTSTART;TZID=Europe/Berlin:20260327T190000
DTEND;TZID=Europe/Berlin:20260327T190000
DTSTAMP:20260425T174140
CREATED:20260316T081450Z
LAST-MODIFIED:20260316T081450Z
UID:10004502-1774638000-1774638000@karlsruhepuls.de
SUMMARY:Konzert: Turns Eco / Exo – Electric Ashes
DESCRIPTION:Louisa Palmi und Pierre Alexandre Tremblay schaffen mit 3D-Klang und Elektroakustik immersive Audiowerke über Umwelt und Technologie.
URL:https://karlsruhepuls.de/events/konzert-turns-eco-exo-electric-ashes/
LOCATION:ZKM – Zentrum für Kunst und Medien\, Lorenzstraße 19\, Karlsruhe\, 76135
CATEGORIES:Konzert
END:VEVENT
BEGIN:VEVENT
DTSTART;TZID=Europe/Berlin:20260326T160000
DTEND;TZID=Europe/Berlin:20260326T183000
DTSTAMP:20260425T174140
CREATED:20250714T124721Z
LAST-MODIFIED:20260324T103258Z
UID:10004195-1774540800-1774549800@karlsruhepuls.de
SUMMARY:It´s a match: Finde deinen Art Buddy
DESCRIPTION:Zehn Teilnehmende. Zehn Werke. Zehn Begegnungen. Du liebst Ausstellungen und suchst jemanden\, um sich darüber auszutauschen?
URL:https://karlsruhepuls.de/events/art-speeddating/2026-03-26/
LOCATION:ZKM – Zentrum für Kunst und Medien\, Lorenzstraße 19\, Karlsruhe\, 76135
CATEGORIES:Dating
END:VEVENT
BEGIN:VEVENT
DTSTART;TZID=Europe/Berlin:20260321T140000
DTEND;TZID=Europe/Berlin:20260321T170000
DTSTAMP:20260425T174140
CREATED:20260316T175943Z
LAST-MODIFIED:20260316T175943Z
UID:10004512-1774101600-1774112400@karlsruhepuls.de
SUMMARY:Wiesenwerkstatt: Wellness-Walk
DESCRIPTION:Interaktiver Spaziergang Katzenwedelwiese: Entdeckt Geschichten und Werke der Wiesenwerkstatt – begleitet von Übungen und Schreibexperimenten.
URL:https://karlsruhepuls.de/events/wellness-walk/
LOCATION:ZKM – Zentrum für Kunst und Medien\, Lorenzstraße 19\, Karlsruhe\, 76135
CATEGORIES:Aktionstag/e
END:VEVENT
BEGIN:VEVENT
DTSTART;TZID=Europe/Berlin:20260320T160000
DTEND;TZID=Europe/Berlin:20260320T170000
DTSTAMP:20260425T174140
CREATED:20260316T175539Z
LAST-MODIFIED:20260316T175539Z
UID:10004511-1774022400-1774026000@karlsruhepuls.de
SUMMARY:ArchitekTour: Führung zum Hallenbau
DESCRIPTION:Entdeckt das ZKM architekturhistorisch – von der Munitionsfabrik zur Kulturfabrik\, mitsamt der Kunstwerke. Ohne Anmeldung\, begrenzte Plätze.
URL:https://karlsruhepuls.de/events/architektou/
LOCATION:ZKM – Zentrum für Kunst und Medien\, Lorenzstraße 19\, Karlsruhe\, 76135
CATEGORIES:Führung
END:VEVENT
BEGIN:VEVENT
DTSTART;TZID=Europe/Berlin:20260320T150000
DTEND;TZID=Europe/Berlin:20260320T180000
DTSTAMP:20260425T174140
CREATED:20260316T075852Z
LAST-MODIFIED:20260316T124832Z
UID:10004498-1774018800-1774029600@karlsruhepuls.de
SUMMARY:Open Hertzlab: MARS! Food
DESCRIPTION:Probiert irdische Snacks und Mars-Nahrung wie Bananen\, Insekten oder Notrationen und stellt gemeinsam ein Menü für Weltraumreisen zusammen.
URL:https://karlsruhepuls.de/events/open-hertzlab-2/
LOCATION:ZKM – Zentrum für Kunst und Medien\, Lorenzstraße 19\, Karlsruhe\, 76135
CATEGORIES:Bildung
END:VEVENT
BEGIN:VEVENT
DTSTART;TZID=Europe/Berlin:20260313T170000
DTEND;TZID=Europe/Berlin:20260313T220000
DTSTAMP:20260425T174140
CREATED:20260311T182842Z
LAST-MODIFIED:20260311T182842Z
UID:10004469-1773421200-1773439200@karlsruhepuls.de
SUMMARY:Eröffnung: The Screen
DESCRIPTION:6 Wochen – 3 Kunstwerke – 1 Screen. Thema: Künstliche Intelligenz. Mit Bar wird der Lichthof 8 zum Ort zum Verweilen\, Beobachten und Austauschen.
URL:https://karlsruhepuls.de/events/eroeffnung-the-screen/
LOCATION:ZKM – Zentrum für Kunst und Medien\, Lorenzstraße 19\, Karlsruhe\, 76135
END:VEVENT
BEGIN:VEVENT
DTSTART;TZID=Europe/Berlin:20260227T110000
DTEND;TZID=Europe/Berlin:20260301T160000
DTSTAMP:20260425T174140
CREATED:20260208T091417Z
LAST-MODIFIED:20260208T091548Z
UID:10004237-1772190000-1772380800@karlsruhepuls.de
SUMMARY:Wikipedia Edit-a-thon
DESCRIPTION:Hier hast du die Möglichkeit\, an Wikipedia mitzuschreiben und mehr über dessen Aufbau zu lernen. Zudem lernst du das Schreiben von biografischen Artikeln. \n 
URL:https://karlsruhepuls.de/events/wikipedia-edit-a-thon/
LOCATION:ZKM – Zentrum für Kunst und Medien\, Lorenzstraße 19\, Karlsruhe\, 76135
END:VEVENT
BEGIN:VEVENT
DTSTART;TZID=Europe/Berlin:20260220T150000
DTEND;TZID=Europe/Berlin:20260220T180000
DTSTAMP:20260425T174140
CREATED:20260211T125103Z
LAST-MODIFIED:20260211T131758Z
UID:10004270-1771599600-1771610400@karlsruhepuls.de
SUMMARY:Open Hertzlab
DESCRIPTION:Prototyp-Workshop: Welche Auswirkungen hat Einsamkeit auf unsere mentale Gesundheit? Welche Strategien können dem entgegenwirken? \n 
URL:https://karlsruhepuls.de/events/open-hertzlab/
LOCATION:ZKM – Zentrum für Kunst und Medien\, Lorenzstraße 19\, Karlsruhe\, 76135
CATEGORIES:Workshop
END:VEVENT
BEGIN:VEVENT
DTSTART;TZID=Europe/Berlin:20260205T210000
DTEND;TZID=Europe/Berlin:20260205T210000
DTSTAMP:20260425T174140
CREATED:20260117T111852Z
LAST-MODIFIED:20260117T111924Z
UID:10004066-1770325200-1770325200@karlsruhepuls.de
SUMMARY:Art Karlsruhe meets Hallenbau
DESCRIPTION:Nach der Eröffnung der art Karlsruhe erwarten euch im Foyer Kunst\, Drinks\, Snacks und Musik vom DJ-Set Auraedisk und Enkidu.
URL:https://karlsruhepuls.de/events/art-karlsruhe-meets-hallenbau/
LOCATION:ZKM – Zentrum für Kunst und Medien\, Lorenzstraße 19\, Karlsruhe\, 76135
CATEGORIES:Party
END:VEVENT
BEGIN:VEVENT
DTSTART;TZID=Europe/Berlin:20260204T150000
DTEND;TZID=Europe/Berlin:20260204T170000
DTSTAMP:20260425T174140
CREATED:20260202T075137Z
LAST-MODIFIED:20260202T075137Z
UID:10004162-1770217200-1770224400@karlsruhepuls.de
SUMMARY:Mittwochstreff: Du bist\, was du isst
DESCRIPTION:Woher kommt unser Obst und Gemüse\, welche Sorten kennen wir\, wie bereiten wir sie zu? Mit Unterstützung von Foodcoop e. V. \n 
URL:https://karlsruhepuls.de/events/du-bist-was-du-isst/
LOCATION:ZKM – Zentrum für Kunst und Medien\, Lorenzstraße 19\, Karlsruhe\, 76135
CATEGORIES:Aktionstag/e
END:VEVENT
BEGIN:VEVENT
DTSTART;TZID=Europe/Berlin:20260201T110000
DTEND;TZID=Europe/Berlin:20260201T180000
DTSTAMP:20260425T174140
CREATED:20260103T143356Z
LAST-MODIFIED:20260103T143412Z
UID:10003972-1769943600-1769968800@karlsruhepuls.de
SUMMARY:Tag der offenen Tür im Hallenbau
DESCRIPTION:Werft einen Blick hinter die Kulissen der HfG\, des ZKM\, der Staatlichen Kunsthalle und der Städtischen Galerie Karlsruhe. Alle Aktivitäten kostenlos!
URL:https://karlsruhepuls.de/events/tag-der-offenen-tuer-im-hallenbau/
LOCATION:ZKM – Zentrum für Kunst und Medien\, Lorenzstraße 19\, Karlsruhe\, 76135
CATEGORIES:Tag der offenen Tür,Workshop
END:VEVENT
BEGIN:VEVENT
DTSTART;TZID=Europe/Berlin:20260115T160000
DTEND;TZID=Europe/Berlin:20260115T183000
DTSTAMP:20260425T174140
CREATED:20260113T083153Z
LAST-MODIFIED:20260113T090900Z
UID:10004021-1768492800-1768501800@karlsruhepuls.de
SUMMARY:It´s a match – finde deinen Art-Buddy
DESCRIPTION:Zehn Teilnehmende. Zehn Werke. Zehn Begegnungen. Lerne unterschiedliche Menschen und deren Perspektive auf Kunst und den Alltag kennen.
URL:https://karlsruhepuls.de/events/finde-deinen-art-buddy/
LOCATION:ZKM – Zentrum für Kunst und Medien\, Lorenzstraße 19\, Karlsruhe\, 76135
CATEGORIES:Ausstellung
END:VEVENT
BEGIN:VEVENT
DTSTART;TZID=Europe/Berlin:20251107T210000
DTEND;TZID=Europe/Berlin:20251107T210000
DTSTAMP:20260425T174141
CREATED:20251106T070616Z
LAST-MODIFIED:20251106T071005Z
UID:10003434-1762549200-1762549200@karlsruhepuls.de
SUMMARY:Live-Konzert: Mouse on Mars
DESCRIPTION:Mouse on Mars – Teil der ARD Hörspieltage 2025 – präsentieren Auszüge aus AAI\, einem Experiment zwischen Mensch\, Maschine und Code. Eintritt frei.
URL:https://karlsruhepuls.de/events/live-konzert-mouse-on-mars/
LOCATION:ZKM – Zentrum für Kunst und Medien\, Lorenzstraße 19\, Karlsruhe\, 76135
END:VEVENT
BEGIN:VEVENT
DTSTART;TZID=Europe/Berlin:20251107T190000
DTEND;TZID=Europe/Berlin:20251107T190000
DTSTAMP:20260425T174141
CREATED:20251106T064256Z
LAST-MODIFIED:20251106T070052Z
UID:10003399-1762542000-1762542000@karlsruhepuls.de
SUMMARY:Live-Hörspiel: Orson Welles und der Krieg der Welten
DESCRIPTION:Live-Hörspiel mit Oliver Rohrbeck und der LauscherloungeEin Event von „Hörspiel trifft Zukunft – Die ARD Hörspieltage“.Erlebt vier Tage voller Highlights\, Innovationen und Überraschungen – mit multimedialen Live-Performances\, faszinierenden Vorträgen und vielem mehr!
URL:https://karlsruhepuls.de/events/ard-hoerspieltage/
LOCATION:ZKM – Zentrum für Kunst und Medien\, Lorenzstraße 19\, Karlsruhe\, 76135
CATEGORIES:Aktionstag/e,Film
END:VEVENT
BEGIN:VEVENT
DTSTART;TZID=Europe/Berlin:20251024T143000
DTEND;TZID=Europe/Berlin:20251024T150000
DTSTAMP:20260425T174141
CREATED:20251022T110910Z
LAST-MODIFIED:20251022T110910Z
UID:10003358-1761316200-1761318000@karlsruhepuls.de
SUMMARY:ZeitGenuss: Pop-up-Konzert »Sonic city«
DESCRIPTION:Hendrik Vogel und Kilian Kretschmer: WATCH YOUR PHONE – eine immersive Klang- und Videoperformance. Das Publikum wird aktiv eingebunden.
URL:https://karlsruhepuls.de/events/sonic-city/
LOCATION:ZKM – Zentrum für Kunst und Medien\, Lorenzstraße 19\, Karlsruhe\, 76135
CATEGORIES:Konzert
END:VEVENT
BEGIN:VEVENT
DTSTART;TZID=Europe/Berlin:20251017T140000
DTEND;TZID=Europe/Berlin:20251017T180000
DTSTAMP:20260425T174141
CREATED:20251009T104130Z
LAST-MODIFIED:20251009T104305Z
UID:10003324-1760709600-1760724000@karlsruhepuls.de
SUMMARY:InnovationFestival – digitale Neuheiten made in Karlsruhe
DESCRIPTION:[Anzeige] Lernt digitale Innovationen aus Wirtschaft\, Wissenschaft\, Verwaltung und Kultur kennen – vor Ort im ZKM oder per Livestream am Rechner. \nNeben der Keynote von Digitalexpertin Jutta Horstmann präsentieren Start-ups\, Unternehmen\, Kultureinrichtungen und Hochschulen ihre Projekte\, Technologien und Anwendungen. \nFreut euch auf zehnminütige Impulsvorträge zu digitaler Souveränität\, Künstlicher Intelligenz in der Stadt der Zukunft und nachhaltiger Gestaltung von Mobilität\, Energieversorgung und urbaner Infrastruktur. \nMit dabei:\nLuca Beisel\, Oliver Gräf (Auxilium Cyber Security)\nBenjamin Berger (Consiliari)\nAnjela Mayer\, Kevin Kastner (KIT und TH Mannheim)\nProf. Dr. Matthias Wölfel (Hochschule Karlsruhe)\nSaskia Bluhm\, Tim Knerrich (dmTECH)\nNorina Quinte (ato)\nAndreas Sexauer (KIT)\nDenise Schäfer (dmTECH)\nSergey Biniaminov (HS Analysis)\nMichelle Blumenstein (Siemens) \nZum Abschluss gibts ein Get-Together im ZKM! Die Veranstaltung ist kostenfrei\, der Livestream über die Webseite karlsruhe.digital abrufbar.
URL:https://karlsruhepuls.de/events/innovationfestival/
LOCATION:ZKM – Zentrum für Kunst und Medien\, Lorenzstraße 19\, Karlsruhe\, 76135
CATEGORIES:Bildung,Vortrag
ATTACH;FMTTYPE=image/jpeg:https://karlsruhepuls.de/wp-content/uploads/2025/10/InnovationFestival-Karlsruhe.jpg
END:VEVENT
BEGIN:VEVENT
DTSTART;TZID=Europe/Berlin:20251010T160000
DTEND;TZID=Europe/Berlin:20251010T180000
DTSTAMP:20260425T174141
CREATED:20250930T104703Z
LAST-MODIFIED:20250930T104703Z
UID:10003175-1760112000-1760119200@karlsruhepuls.de
SUMMARY:Vernissage: Amna Elamin.Unfamiliar Ceilings
DESCRIPTION:Die Ausstellung spricht von Aufbruch und Ankunft\, Wegen durch Unsicherheit\, von kriegsbedingter Entwurzelung und der Suche nach Nähe und Sicherheit.
URL:https://karlsruhepuls.de/events/unfamiliar-ceilings/
LOCATION:ZKM – Zentrum für Kunst und Medien\, Lorenzstraße 19\, Karlsruhe\, 76135
CATEGORIES:Ausstellung,Vernissage
END:VEVENT
BEGIN:VEVENT
DTSTART;TZID=Europe/Berlin:20250919T190000
DTEND;TZID=Europe/Berlin:20250919T190000
DTSTAMP:20260425T174141
CREATED:20250909T075352Z
LAST-MODIFIED:20250909T075352Z
UID:10002985-1758308400-1758308400@karlsruhepuls.de
SUMMARY:TURNS x Natasha Barrett: Lie Detector
DESCRIPTION:Bässe\, Laser\, holografische Illusionen und KI-ähnliche Stimmen versetzen in Zustände\, die vertraut erscheinen\, und doch trügen. Ein immersives Konzert!
URL:https://karlsruhepuls.de/events/lie-detector/
LOCATION:ZKM – Zentrum für Kunst und Medien\, Lorenzstraße 19\, Karlsruhe\, 76135
CATEGORIES:Konzert
END:VEVENT
BEGIN:VEVENT
DTSTART;TZID=Europe/Berlin:20250802T210000
DTEND;TZID=Europe/Berlin:20250802T230000
DTSTAMP:20260425T174141
CREATED:20250729T080325Z
LAST-MODIFIED:20250729T080325Z
UID:10002713-1754168400-1754175600@karlsruhepuls.de
SUMMARY:TURNS: KAMUNA special mit den Hertzlab-Residents
DESCRIPTION:Im Rahmen der Karlsruher Museumsnacht könnt ihr hier Klangkunst in einer Performance erleben\, die unter die Haut geht.
URL:https://karlsruhepuls.de/events/turns-kamuna-special-mit-den-hertzlab-residents/
LOCATION:ZKM – Zentrum für Kunst und Medien\, Lorenzstraße 19\, Karlsruhe\, 76135
CATEGORIES:Ausstellung
END:VEVENT
BEGIN:VEVENT
DTSTART;TZID=Europe/Berlin:20250606T190000
DTEND;TZID=Europe/Berlin:20250606T190000
DTSTAMP:20260425T174141
CREATED:20250604T100902Z
LAST-MODIFIED:20250604T100902Z
UID:10000791-1749236400-1749236400@karlsruhepuls.de
SUMMARY:Ausstellungseröffnung: All Memory Is Theft
DESCRIPTION:Zu sehen ist eine Retrospektive\, die eine vielschichtige intertextuelle Reise durch die letzten 35 Jahre von Johan Grimonprez‘ Schaffen präsentiert. Eröffnung mit Begrüßung\, Einführung und KIT Kammerorchester. Eintritt frei.
URL:https://karlsruhepuls.de/events/ausstellungseroeffnung-all-memory-is-theft/
LOCATION:ZKM – Zentrum für Kunst und Medien\, Lorenzstraße 19\, Karlsruhe\, 76135
CATEGORIES:Vernissage
END:VEVENT
BEGIN:VEVENT
DTSTART;TZID=Europe/Berlin:20250518T160000
DTEND;TZID=Europe/Berlin:20250518T170000
DTSTAMP:20260425T174141
CREATED:20250514T110514Z
LAST-MODIFIED:20250514T110514Z
UID:10000497-1747584000-1747587600@karlsruhepuls.de
SUMMARY:Internationaler Museumstag ZKM
DESCRIPTION:Heute gibt es freien Eintritt und kostenlose Führungen durch die Ausstellung: The Story That Never Ends. Die Sammlung des ZKM.
URL:https://karlsruhepuls.de/events/internationaler-museumstag-zkm/2025-05-18/2/
LOCATION:ZKM – Zentrum für Kunst und Medien\, Lorenzstraße 19\, Karlsruhe\, 76135
END:VEVENT
BEGIN:VEVENT
DTSTART;TZID=Europe/Berlin:20250518T140000
DTEND;TZID=Europe/Berlin:20250518T173000
DTSTAMP:20260425T174141
CREATED:20250514T110632Z
LAST-MODIFIED:20250514T110632Z
UID:10000498-1747576800-1747589400@karlsruhepuls.de
SUMMARY:Internationaler Museumstag: Stricklieselparty
DESCRIPTION:Kommt und werkelt an Teppichen für das USEUM mit! Wir nutzen kleine und riesige Stricklieseln des Künstlers Kosorić und recyclebare bunte Stoffe.
URL:https://karlsruhepuls.de/events/stricklieselparty/
LOCATION:ZKM – Zentrum für Kunst und Medien\, Lorenzstraße 19\, Karlsruhe\, 76135
END:VEVENT
BEGIN:VEVENT
DTSTART;TZID=Europe/Berlin:20250518T113000
DTEND;TZID=Europe/Berlin:20250518T123000
DTSTAMP:20260425T174141
CREATED:20250514T110514Z
LAST-MODIFIED:20250514T110514Z
UID:10000496-1747567800-1747571400@karlsruhepuls.de
SUMMARY:Internationaler Museumstag ZKM
DESCRIPTION:Heute gibt es freien Eintritt und kostenlose Führungen durch die Ausstellung: The Story That Never Ends. Die Sammlung des ZKM.
URL:https://karlsruhepuls.de/events/internationaler-museumstag-zkm/2025-05-18/1/
LOCATION:ZKM – Zentrum für Kunst und Medien\, Lorenzstraße 19\, Karlsruhe\, 76135
END:VEVENT
END:VCALENDAR