BEGIN:VCALENDAR
VERSION:2.0
PRODID:-//Karlsruhepuls - ECPv6.14.2//NONSGML v1.0//EN
CALSCALE:GREGORIAN
METHOD:PUBLISH
X-WR-CALNAME:Karlsruhepuls
X-ORIGINAL-URL:https://karlsruhepuls.de
X-WR-CALDESC:Veranstaltungen für Karlsruhepuls
REFRESH-INTERVAL;VALUE=DURATION:PT1H
X-Robots-Tag:noindex
X-PUBLISHED-TTL:PT1H
BEGIN:VTIMEZONE
TZID:Europe/Berlin
BEGIN:DAYLIGHT
TZOFFSETFROM:+0100
TZOFFSETTO:+0200
TZNAME:CEST
DTSTART:20260329T010000
END:DAYLIGHT
BEGIN:STANDARD
TZOFFSETFROM:+0200
TZOFFSETTO:+0100
TZNAME:CET
DTSTART:20261025T010000
END:STANDARD
END:VTIMEZONE
BEGIN:VEVENT
DTSTART;TZID=Europe/Berlin:20260425T150000
DTEND;TZID=Europe/Berlin:20260425T173000
DTSTAMP:20260425T155055
CREATED:20250714T124721Z
LAST-MODIFIED:20260324T103258Z
UID:10004403-1777129200-1777138200@karlsruhepuls.de
SUMMARY:It´s a match: Finde deinen Art Buddy
DESCRIPTION:Zehn Teilnehmende. Zehn Werke. Zehn Begegnungen. Du liebst Ausstellungen und suchst jemanden\, um sich darüber auszutauschen?
URL:https://karlsruhepuls.de/events/art-speeddating/2026-04-25/
LOCATION:ZKM – Zentrum für Kunst und Medien\, Lorenzstraße 19\, Karlsruhe\, 76135
CATEGORIES:Dating
END:VEVENT
BEGIN:VEVENT
DTSTART;TZID=Europe/Berlin:20260429T150000
DTEND;TZID=Europe/Berlin:20260429T160000
DTSTAMP:20260425T155055
CREATED:20260424T083435Z
LAST-MODIFIED:20260424T083435Z
UID:10004706-1777474800-1777478400@karlsruhepuls.de
SUMMARY:Talkrunde: Jenseits der Erde
DESCRIPTION:Wie realistisch ist dauerhaftes Leben im All? Experte Phillip Wolff erklärt die großen Hürden – und warum Visionen trotzdem wichtig sind.
URL:https://karlsruhepuls.de/events/talkrunde-jenseits-der-erde/
LOCATION:ZKM – Zentrum für Kunst und Medien\, Lorenzstraße 19\, Karlsruhe\, 76135
CATEGORIES:Gesprächsreihe
END:VEVENT
BEGIN:VEVENT
DTSTART;TZID=Europe/Berlin:20260507T170000
DTEND;TZID=Europe/Berlin:20260507T200000
DTSTAMP:20260425T155055
CREATED:20260418T143327Z
LAST-MODIFIED:20260418T143327Z
UID:10004660-1778173200-1778184000@karlsruhepuls.de
SUMMARY:Kleider- und Bücherbasar
DESCRIPTION:Stöbern\, Schmökern\, Gutes tun: Das ZKM-Team hat ausgemistet und bringt Kleider\, Taschen\, Schmuck und Co. mit – alles bereit für eine zweite Runde.
URL:https://karlsruhepuls.de/events/kleider-und-buecherbasar/
LOCATION:ZKM – Zentrum für Kunst und Medien\, Lorenzstraße 19\, Karlsruhe\, 76135
END:VEVENT
BEGIN:VEVENT
DTSTART;TZID=Europe/Berlin:20260513T150000
DTEND;TZID=Europe/Berlin:20260513T170000
DTSTAMP:20260425T155055
CREATED:20260420T091714Z
LAST-MODIFIED:20260420T091714Z
UID:10004670-1778684400-1778691600@karlsruhepuls.de
SUMMARY:Mittwochstreff: Mehr Lob\, bitte
DESCRIPTION:In diesem Workshop geht es um Komplimente und positive Worte und darum\, wie sie Vertrauen und Gemeinschaft schaffen können. \n 
URL:https://karlsruhepuls.de/events/mehr-lob-bitte/
LOCATION:ZKM – Zentrum für Kunst und Medien\, Lorenzstraße 19\, Karlsruhe\, 76135
END:VEVENT
BEGIN:VEVENT
DTSTART;TZID=Europe/Berlin:20260521T160000
DTEND;TZID=Europe/Berlin:20260521T183000
DTSTAMP:20260425T155055
CREATED:20250714T124721Z
LAST-MODIFIED:20260324T103258Z
UID:10004404-1779379200-1779388200@karlsruhepuls.de
SUMMARY:It´s a match: Finde deinen Art Buddy
DESCRIPTION:Zehn Teilnehmende. Zehn Werke. Zehn Begegnungen. Du liebst Ausstellungen und suchst jemanden\, um sich darüber auszutauschen?
URL:https://karlsruhepuls.de/events/art-speeddating/2026-05-21/
LOCATION:ZKM – Zentrum für Kunst und Medien\, Lorenzstraße 19\, Karlsruhe\, 76135
CATEGORIES:Dating
END:VEVENT
END:VCALENDAR