BEGIN:VCALENDAR
VERSION:2.0
PRODID:-//Karlsruhepuls - ECPv6.14.2//NONSGML v1.0//EN
CALSCALE:GREGORIAN
METHOD:PUBLISH
X-WR-CALNAME:Karlsruhepuls
X-ORIGINAL-URL:https://karlsruhepuls.de
X-WR-CALDESC:Veranstaltungen für Karlsruhepuls
REFRESH-INTERVAL;VALUE=DURATION:PT1H
X-Robots-Tag:noindex
X-PUBLISHED-TTL:PT1H
BEGIN:VTIMEZONE
TZID:Europe/Berlin
BEGIN:DAYLIGHT
TZOFFSETFROM:+0100
TZOFFSETTO:+0200
TZNAME:CEST
DTSTART:20250330T010000
END:DAYLIGHT
BEGIN:STANDARD
TZOFFSETFROM:+0200
TZOFFSETTO:+0100
TZNAME:CET
DTSTART:20251026T010000
END:STANDARD
END:VTIMEZONE
BEGIN:VEVENT
DTSTART;TZID=Europe/Berlin:20251107T190000
DTEND;TZID=Europe/Berlin:20251107T190000
DTSTAMP:20260425T190210
CREATED:20251106T064256Z
LAST-MODIFIED:20251106T070052Z
UID:10003399-1762542000-1762542000@karlsruhepuls.de
SUMMARY:Live-Hörspiel: Orson Welles und der Krieg der Welten
DESCRIPTION:Live-Hörspiel mit Oliver Rohrbeck und der LauscherloungeEin Event von „Hörspiel trifft Zukunft – Die ARD Hörspieltage“.Erlebt vier Tage voller Highlights\, Innovationen und Überraschungen – mit multimedialen Live-Performances\, faszinierenden Vorträgen und vielem mehr!
URL:https://karlsruhepuls.de/events/ard-hoerspieltage/
LOCATION:ZKM – Zentrum für Kunst und Medien\, Lorenzstraße 19\, Karlsruhe\, 76135
CATEGORIES:Aktionstag/e,Film
END:VEVENT
BEGIN:VEVENT
DTSTART;TZID=Europe/Berlin:20251024T143000
DTEND;TZID=Europe/Berlin:20251024T150000
DTSTAMP:20260425T190210
CREATED:20251022T110910Z
LAST-MODIFIED:20251022T110910Z
UID:10003358-1761316200-1761318000@karlsruhepuls.de
SUMMARY:ZeitGenuss: Pop-up-Konzert »Sonic city«
DESCRIPTION:Hendrik Vogel und Kilian Kretschmer: WATCH YOUR PHONE – eine immersive Klang- und Videoperformance. Das Publikum wird aktiv eingebunden.
URL:https://karlsruhepuls.de/events/sonic-city/
LOCATION:ZKM – Zentrum für Kunst und Medien\, Lorenzstraße 19\, Karlsruhe\, 76135
CATEGORIES:Konzert
END:VEVENT
BEGIN:VEVENT
DTSTART;TZID=Europe/Berlin:20251017T140000
DTEND;TZID=Europe/Berlin:20251017T180000
DTSTAMP:20260425T190210
CREATED:20251009T104130Z
LAST-MODIFIED:20251009T104305Z
UID:10003324-1760709600-1760724000@karlsruhepuls.de
SUMMARY:InnovationFestival – digitale Neuheiten made in Karlsruhe
DESCRIPTION:[Anzeige] Lernt digitale Innovationen aus Wirtschaft\, Wissenschaft\, Verwaltung und Kultur kennen – vor Ort im ZKM oder per Livestream am Rechner. \nNeben der Keynote von Digitalexpertin Jutta Horstmann präsentieren Start-ups\, Unternehmen\, Kultureinrichtungen und Hochschulen ihre Projekte\, Technologien und Anwendungen. \nFreut euch auf zehnminütige Impulsvorträge zu digitaler Souveränität\, Künstlicher Intelligenz in der Stadt der Zukunft und nachhaltiger Gestaltung von Mobilität\, Energieversorgung und urbaner Infrastruktur. \nMit dabei:\nLuca Beisel\, Oliver Gräf (Auxilium Cyber Security)\nBenjamin Berger (Consiliari)\nAnjela Mayer\, Kevin Kastner (KIT und TH Mannheim)\nProf. Dr. Matthias Wölfel (Hochschule Karlsruhe)\nSaskia Bluhm\, Tim Knerrich (dmTECH)\nNorina Quinte (ato)\nAndreas Sexauer (KIT)\nDenise Schäfer (dmTECH)\nSergey Biniaminov (HS Analysis)\nMichelle Blumenstein (Siemens) \nZum Abschluss gibts ein Get-Together im ZKM! Die Veranstaltung ist kostenfrei\, der Livestream über die Webseite karlsruhe.digital abrufbar.
URL:https://karlsruhepuls.de/events/innovationfestival/
LOCATION:ZKM – Zentrum für Kunst und Medien\, Lorenzstraße 19\, Karlsruhe\, 76135
CATEGORIES:Bildung,Vortrag
ATTACH;FMTTYPE=image/jpeg:https://karlsruhepuls.de/wp-content/uploads/2025/10/InnovationFestival-Karlsruhe.jpg
END:VEVENT
BEGIN:VEVENT
DTSTART;TZID=Europe/Berlin:20251010T160000
DTEND;TZID=Europe/Berlin:20251010T180000
DTSTAMP:20260425T190210
CREATED:20250930T104703Z
LAST-MODIFIED:20250930T104703Z
UID:10003175-1760112000-1760119200@karlsruhepuls.de
SUMMARY:Vernissage: Amna Elamin.Unfamiliar Ceilings
DESCRIPTION:Die Ausstellung spricht von Aufbruch und Ankunft\, Wegen durch Unsicherheit\, von kriegsbedingter Entwurzelung und der Suche nach Nähe und Sicherheit.
URL:https://karlsruhepuls.de/events/unfamiliar-ceilings/
LOCATION:ZKM – Zentrum für Kunst und Medien\, Lorenzstraße 19\, Karlsruhe\, 76135
CATEGORIES:Ausstellung,Vernissage
END:VEVENT
BEGIN:VEVENT
DTSTART;TZID=Europe/Berlin:20250919T190000
DTEND;TZID=Europe/Berlin:20250919T190000
DTSTAMP:20260425T190210
CREATED:20250909T075352Z
LAST-MODIFIED:20250909T075352Z
UID:10002985-1758308400-1758308400@karlsruhepuls.de
SUMMARY:TURNS x Natasha Barrett: Lie Detector
DESCRIPTION:Bässe\, Laser\, holografische Illusionen und KI-ähnliche Stimmen versetzen in Zustände\, die vertraut erscheinen\, und doch trügen. Ein immersives Konzert!
URL:https://karlsruhepuls.de/events/lie-detector/
LOCATION:ZKM – Zentrum für Kunst und Medien\, Lorenzstraße 19\, Karlsruhe\, 76135
CATEGORIES:Konzert
END:VEVENT
BEGIN:VEVENT
DTSTART;TZID=Europe/Berlin:20250802T210000
DTEND;TZID=Europe/Berlin:20250802T230000
DTSTAMP:20260425T190210
CREATED:20250729T080325Z
LAST-MODIFIED:20250729T080325Z
UID:10002713-1754168400-1754175600@karlsruhepuls.de
SUMMARY:TURNS: KAMUNA special mit den Hertzlab-Residents
DESCRIPTION:Im Rahmen der Karlsruher Museumsnacht könnt ihr hier Klangkunst in einer Performance erleben\, die unter die Haut geht.
URL:https://karlsruhepuls.de/events/turns-kamuna-special-mit-den-hertzlab-residents/
LOCATION:ZKM – Zentrum für Kunst und Medien\, Lorenzstraße 19\, Karlsruhe\, 76135
CATEGORIES:Ausstellung
END:VEVENT
BEGIN:VEVENT
DTSTART;TZID=Europe/Berlin:20250606T190000
DTEND;TZID=Europe/Berlin:20250606T190000
DTSTAMP:20260425T190210
CREATED:20250604T100902Z
LAST-MODIFIED:20250604T100902Z
UID:10000791-1749236400-1749236400@karlsruhepuls.de
SUMMARY:Ausstellungseröffnung: All Memory Is Theft
DESCRIPTION:Zu sehen ist eine Retrospektive\, die eine vielschichtige intertextuelle Reise durch die letzten 35 Jahre von Johan Grimonprez‘ Schaffen präsentiert. Eröffnung mit Begrüßung\, Einführung und KIT Kammerorchester. Eintritt frei.
URL:https://karlsruhepuls.de/events/ausstellungseroeffnung-all-memory-is-theft/
LOCATION:ZKM – Zentrum für Kunst und Medien\, Lorenzstraße 19\, Karlsruhe\, 76135
CATEGORIES:Vernissage
END:VEVENT
BEGIN:VEVENT
DTSTART;TZID=Europe/Berlin:20250518T160000
DTEND;TZID=Europe/Berlin:20250518T170000
DTSTAMP:20260425T190210
CREATED:20250514T110514Z
LAST-MODIFIED:20250514T110514Z
UID:10000497-1747584000-1747587600@karlsruhepuls.de
SUMMARY:Internationaler Museumstag ZKM
DESCRIPTION:Heute gibt es freien Eintritt und kostenlose Führungen durch die Ausstellung: The Story That Never Ends. Die Sammlung des ZKM.
URL:https://karlsruhepuls.de/events/internationaler-museumstag-zkm/2025-05-18/2/
LOCATION:ZKM – Zentrum für Kunst und Medien\, Lorenzstraße 19\, Karlsruhe\, 76135
END:VEVENT
BEGIN:VEVENT
DTSTART;TZID=Europe/Berlin:20250518T140000
DTEND;TZID=Europe/Berlin:20250518T173000
DTSTAMP:20260425T190210
CREATED:20250514T110632Z
LAST-MODIFIED:20250514T110632Z
UID:10000498-1747576800-1747589400@karlsruhepuls.de
SUMMARY:Internationaler Museumstag: Stricklieselparty
DESCRIPTION:Kommt und werkelt an Teppichen für das USEUM mit! Wir nutzen kleine und riesige Stricklieseln des Künstlers Kosorić und recyclebare bunte Stoffe.
URL:https://karlsruhepuls.de/events/stricklieselparty/
LOCATION:ZKM – Zentrum für Kunst und Medien\, Lorenzstraße 19\, Karlsruhe\, 76135
END:VEVENT
BEGIN:VEVENT
DTSTART;TZID=Europe/Berlin:20250518T113000
DTEND;TZID=Europe/Berlin:20250518T123000
DTSTAMP:20260425T190210
CREATED:20250514T110514Z
LAST-MODIFIED:20250514T110514Z
UID:10000496-1747567800-1747571400@karlsruhepuls.de
SUMMARY:Internationaler Museumstag ZKM
DESCRIPTION:Heute gibt es freien Eintritt und kostenlose Führungen durch die Ausstellung: The Story That Never Ends. Die Sammlung des ZKM.
URL:https://karlsruhepuls.de/events/internationaler-museumstag-zkm/2025-05-18/1/
LOCATION:ZKM – Zentrum für Kunst und Medien\, Lorenzstraße 19\, Karlsruhe\, 76135
END:VEVENT
BEGIN:VEVENT
DTSTART;TZID=Europe/Berlin:20250411T190000
DTEND;TZID=Europe/Berlin:20250411T190000
DTSTAMP:20260425T190210
CREATED:20250326T150421Z
LAST-MODIFIED:20250326T150758Z
UID:10000214-1744398000-1744398000@karlsruhepuls.de
SUMMARY:Vernissage: 200 Jahre KIT – 100 Objekte
DESCRIPTION:Historisches aus der Geschichte der Uni: Wissenschaftliche Geräte\, Maschinenbau-Modelle\, Design-Ikonen\, Roboter und Raritäten. Läuft bis 19. Oktober.
URL:https://karlsruhepuls.de/events/vernissage-200-jahre-kit-100-objekte/
LOCATION:ZKM – Zentrum für Kunst und Medien\, Lorenzstraße 19\, Karlsruhe\, 76135
END:VEVENT
BEGIN:VEVENT
DTSTART;TZID=Europe/Berlin:20250410T170000
DTEND;TZID=Europe/Berlin:20250410T220000
DTSTAMP:20260425T190210
CREATED:20250402T082157Z
LAST-MODIFIED:20250402T082237Z
UID:10000343-1744304400-1744322400@karlsruhepuls.de
SUMMARY:Zoom@zkm: Afterworkparty
DESCRIPTION:Euch erwarten Musik von kitchen.tunes und erfrischende Cocktails. Freut euch bei freiem Eintritt auf groovige Beats und eine coole Stimmung.
URL:https://karlsruhepuls.de/events/zoomzkm-afterworkparty/
LOCATION:ZKM – Zentrum für Kunst und Medien\, Lorenzstraße 19\, Karlsruhe\, 76135
END:VEVENT
END:VCALENDAR